BEGIN:VCALENDAR
VERSION:2.0
PRODID:-//ChamberMaster//Event Calendar 2.0//EN
METHOD:PUBLISH
X-PUBLISHED-TTL:P3D
REFRESH-INTERVAL:P3D
CALSCALE:GREGORIAN
BEGIN:VEVENT
DTSTART:20191024T233000Z
DTEND:20191025T003000Z
X-MICROSOFT-CDO-ALLDAYEVENT:FALSE
SUMMARY:Emotional Eating: Understanding It & How To Prevent It
DESCRIPTION:Join us on Thursday\, October 24th for our next Behavior Modification Class! \n\n\n\nOur very own successful maintenance client\, Deb P. (R.N.)\, will be discussing the struggles many of us face with Emotional Eating\, and helping us learn how to recognize our triggers and prevent ourselves from falling in a vicious cycle! \n\n\n\nDon't let food control your emotions!\n\n\n\nCALL NOW to reserve your seat for yourself and a friend and/or loved one! 815-304-4665
X-ALT-DESC;FMTTYPE=text/html:<span style="background-color:rgb(255\, 255\, 255)\; color:rgb(29\, 33\, 41)\; font-family:helvetica\,arial\,sans-serif\; font-size:14px">Join us on Thursday\, October 24th for our next Behavior Modification Class! </span><br />\n<br />\n<span style="background-color:rgb(255\, 255\, 255)\; color:rgb(29\, 33\, 41)\; font-family:helvetica\,arial\,sans-serif\; font-size:14px">Our very own successful maintenance client\, Deb P. (R.N.)\, will be discussing the struggles many of us face with Emotional Eating\, and helping us learn how to recognize our triggers and prevent ourselves from falling in a vicious cycle! </span><br />\n<br />\n<span style="background-color:rgb(255\, 255\, 255)\; color:rgb(29\, 33\, 41)\; font-family:helvetica\,arial\,sans-serif\; font-size:14px">Don&#39\;t let food control your emotions!<br />\n<br />\nCALL NOW to reserve your seat for yourself and a friend and/or loved one! 815-304-4665 </span>
LOCATION:Ideal Solution Weight Loss 805 N. Kennedy Dr. Ste B Kankakee\, IL 60901
UID:e.771.2987
SEQUENCE:3
DTSTAMP:20260423T003730Z
URL:https://business.kankakeecountychamber.com/events/details/emotional-eating-understanding-it-how-to-prevent-it-2987
END:VEVENT

END:VCALENDAR
