BEGIN:VCALENDAR
VERSION:2.0
PRODID:-//ChamberMaster//Event Calendar 2.0//EN
METHOD:PUBLISH
X-PUBLISHED-TTL:P3D
REFRESH-INTERVAL:P3D
CALSCALE:GREGORIAN
BEGIN:VEVENT
DTSTART:20230316T220000Z
DTEND:20230317T000000Z
X-MICROSOFT-CDO-ALLDAYEVENT:FALSE
SUMMARY:Euchre Night
DESCRIPTION:All are welcome to come join us for a night of Euchre!\n\nWe will have a cocktail of the night\, and some Hors d'oeuvres for all who attend!\n\nWe can't wait to see you!
X-ALT-DESC;FMTTYPE=text/html:<br />\nAll are welcome to come join us for a night of Euchre!<br />\nWe will have a cocktail of the night\, and some Hors d&#39\;oeuvres for all who attend!<br />\nWe can&#39\;t wait to see you!
LOCATION:Courtyard Estates of Herscher 100 Harvest View Lane Herscher\, IL 60941
UID:e.771.4571
SEQUENCE:3
DTSTAMP:20260420T013353Z
URL:https://business.kankakeecountychamber.com/events/details/euchre-night-4571
END:VEVENT

END:VCALENDAR
