BEGIN:VCALENDAR
VERSION:2.0
PRODID:-//ChamberMaster//Event Calendar 2.0//EN
METHOD:PUBLISH
X-PUBLISHED-TTL:P3D
REFRESH-INTERVAL:P3D
CALSCALE:GREGORIAN
BEGIN:VEVENT
DTSTART:20190908T160000Z
DTEND:20190908T210000Z
X-MICROSOFT-CDO-ALLDAYEVENT:FALSE
SUMMARY:Fall Art and Craft Stroll
DESCRIPTION:Join us for the Art and Craft Stroll
X-ALT-DESC;FMTTYPE=text/html:Join us for the Art and Craft Stroll
LOCATION:Schuyler Avenue and Merchant Street
UID:e.771.2983
SEQUENCE:3
DTSTAMP:20260423T015839Z
URL:https://business.kankakeecountychamber.com/events/details/fall-art-and-craft-stroll-2983
END:VEVENT

END:VCALENDAR
