BEGIN:VCALENDAR
VERSION:2.0
PRODID:-//ChamberMaster//Event Calendar 2.0//EN
METHOD:PUBLISH
X-PUBLISHED-TTL:P3D
REFRESH-INTERVAL:P3D
CALSCALE:GREGORIAN
BEGIN:VEVENT
DTSTART:20210611T230000Z
DTEND:20210612T020000Z
X-MICROSOFT-CDO-ALLDAYEVENT:FALSE
SUMMARY:Family Night Out
DESCRIPTION:Up\, Up & Away at... Family Night Out Join the Bourbonnais Township Park District at Perry Farm Park for an evening of family fun! Featuring Tethered Hot Air Balloon Rides ($10/person)\, Games & Activities\, Balloon Dude Show\, Musical Entertainment\, Food\, & Fun! $10/carload
X-ALT-DESC;FMTTYPE=text/html:Up\, Up &amp\; Away at... Family Night Out Join the Bourbonnais Township Park District at Perry Farm Park for an evening of family fun! Featuring Tethered Hot Air Balloon Rides ($10/person)\, Games &amp\; Activities\, Balloon Dude Show\, Musical Entertainment\, Food\, &amp\; Fun! $10/carload
LOCATION:Perry Farm Park 459 N. Kennedy Drive Bourbonnais\, IL 60914
UID:e.771.3649
SEQUENCE:3
DTSTAMP:20260419T212926Z
URL:https://business.kankakeecountychamber.com/events/details/family-night-out-06-11-2021-3649
END:VEVENT

END:VCALENDAR
