BEGIN:VCALENDAR
VERSION:2.0
PRODID:-//ChamberMaster//Event Calendar 2.0//EN
METHOD:PUBLISH
X-PUBLISHED-TTL:P3D
REFRESH-INTERVAL:P3D
CALSCALE:GREGORIAN
BEGIN:VEVENT
DTSTART:20251025T140000Z
DTEND:20251025T190000Z
X-MICROSOFT-CDO-ALLDAYEVENT:FALSE
SUMMARY:Family Resource Fair-hosted by Our Aging Services
DESCRIPTION:You're Invited to the Our Aging Services' Family Resource Fair!\n\n\n	Saturday\, October 25th |  9:00 AM   2:00 PM\n	Kankakee Public Library | 201 E Merchant St\, Kankakee\, IL\n\n\nCome explore a vibrant hub of resources\, support\, and inspiration for families\, caregivers\, and advocates of children or individuals with developmental disabilities!\n\n\n\nFREE to attend   and full of opportunities to connect.\n\nMeet local vendors and service providers\n\n\n\nHear from expert speakers:\n\n  Ruth from The Arc on Policy & PUNS\n\n  Megan Turner\, Co-Founder of Our Aging Services\, on Eligibility vs. Entitlement and the Medicaid Waivers that Matter\n\nWhether you're navigating services for a loved one or simply curious about what's available\, this fair is your chance to learn\, connect\, and feel empowered.\n\nLet's build a more informed\, inclusive community together so no one has to navigate caring for their disabled child alone.
X-ALT-DESC;FMTTYPE=text/html:<p>&nbsp\;</p>\n\n<p><strong>You&#39\;re Invited to the Our Aging Services&#39\; Family Resource Fair!</strong></p>\n\n<ul>\n	<li><strong>Saturday\, October 25th |&nbsp\; 9:00 AM &ndash\; 2:00 PM</strong></li>\n	<li><strong>Kankakee Public Library</strong> | 201 E Merchant St\, Kankakee\, IL</li>\n</ul>\n\n<p>Come explore a vibrant hub of resources\, support\, and inspiration for families\, caregivers\, and advocates of children or individuals with developmental disabilities!<br />\n<br />\n<strong>FREE to attend</strong> &ndash\; and full of opportunities to connect.</p>\n\n<p>Meet local vendors and service providers<br />\n<br />\nHear from expert speakers:<br />\n&bull\; <strong>Ruth from The Arc</strong> on Policy &amp\; PUNS<br />\n&bull\; <strong>Megan Turner</strong>\, Co-Founder of Our Aging Services\, on <em>Eligibility vs. Entitlement</em> and the <em>Medicaid Waivers that Matter</em></p>\n\n<p>Whether you&#39\;re navigating services for a loved one or simply curious about what&#39\;s available\, this fair is your chance to learn\, connect\, and feel empowered.</p>\n\n<p>Let&rsquo\;s build a more informed\, inclusive community together so no one has to navigate caring for their disabled child alone.</p>\n
LOCATION:Kankakee Public Library | 201 E Merchant St\, Kankakee\, IL
UID:e.771.5376
SEQUENCE:3
DTSTAMP:20260423T134515Z
URL:https://business.kankakeecountychamber.com/events/details/family-resource-fair-hosted-by-our-aging-services-5376
END:VEVENT

END:VCALENDAR
