BEGIN:VCALENDAR
VERSION:2.0
PRODID:-//ChamberMaster//Event Calendar 2.0//EN
METHOD:PUBLISH
X-PUBLISHED-TTL:P3D
REFRESH-INTERVAL:P3D
CALSCALE:GREGORIAN
BEGIN:VEVENT
DTSTART:20200110T173000Z
DTEND:20200110T190000Z
X-MICROSOFT-CDO-ALLDAYEVENT:FALSE
SUMMARY:FEED Friday - Martinez Tacos
DESCRIPTION:Looking for a delicious alternative for lunch? Look no further than the Library!\n\n\n\nStop by and head up to the 4th Floor Gallery between 11:30 and 1:00 on the second Friday of each month!\n\n\n\nOn January 10\, Martinez Tacos will be serving up their local favorite food choices that will be available for purchase.
X-ALT-DESC;FMTTYPE=text/html:<span style="color: rgb(29\, 33\, 41)\; font-family: Helvetica\, Arial\, sans-serif\; font-size: 14px\; white-space: pre-wrap\; background-color: rgb(255\, 255\, 255)\;">Looking for a delicious alternative for lunch? Look no further than the Library!</span><br style="color: rgb(29\, 33\, 41)\; font-family: Helvetica\, Arial\, sans-serif\; font-size: 14px\; white-space: pre-wrap\; background-color: rgb(255\, 255\, 255)\;" />\n<br style="color: rgb(29\, 33\, 41)\; font-family: Helvetica\, Arial\, sans-serif\; font-size: 14px\; white-space: pre-wrap\; background-color: rgb(255\, 255\, 255)\;" />\n<span style="color: rgb(29\, 33\, 41)\; font-family: Helvetica\, Arial\, sans-serif\; font-size: 14px\; white-space: pre-wrap\; background-color: rgb(255\, 255\, 255)\;">Stop by and head up to the 4th Floor Gallery between 11:30 and 1:00 on the second Friday of each month!</span><br style="color: rgb(29\, 33\, 41)\; font-family: Helvetica\, Arial\, sans-serif\; font-size: 14px\; white-space: pre-wrap\; background-color: rgb(255\, 255\, 255)\;" />\n<br style="color: rgb(29\, 33\, 41)\; font-family: Helvetica\, Arial\, sans-serif\; font-size: 14px\; white-space: pre-wrap\; background-color: rgb(255\, 255\, 255)\;" />\n<span style="color: rgb(29\, 33\, 41)\; font-family: Helvetica\, Arial\, sans-serif\; font-size: 14px\; white-space: pre-wrap\; background-color: rgb(255\, 255\, 255)\;">On January 10\, Martinez Tacos will be serving up their local favorite food choices that will be available for purchase. </span>
LOCATION:Kankakee Public Library 4th Floor Gallery
UID:e.771.3081
SEQUENCE:3
DTSTAMP:20260422T220229Z
URL:https://business.kankakeecountychamber.com/events/details/feed-friday-martinez-tacos-3081
END:VEVENT

END:VCALENDAR
