BEGIN:VCALENDAR
VERSION:2.0
PRODID:-//ChamberMaster//Event Calendar 2.0//EN
METHOD:PUBLISH
X-PUBLISHED-TTL:P3D
REFRESH-INTERVAL:P3D
CALSCALE:GREGORIAN
BEGIN:VEVENT
DTSTART:20210303T233000Z
DTEND:20210304T010000Z
X-MICROSOFT-CDO-ALLDAYEVENT:FALSE
SUMMARY:Financial Peace University
DESCRIPTION:Peoples Church is hosting a Financial Peace University class starting on Feb. 10th. The class will meet from 5:30-7PM each Wednesday thereafter at the Legacy Center. Class end date is April 21st. For more information and to sign up for the class\, go to https://bit.ly/3s7hjla. Elementary age child care is available.\n\n\n\nWhat to Expect\n\n\n\nClasses usually last about 120 minutes.\n\nWe'll meet together to watch and discuss the videos and do activities.\n\nFood will not be provided.\n\nChildcare will be provided for free.\n\n\n\nFinancial Peace University (FPU) is the nine-lesson class that will teach you how to pay off debt\, save and invest for your future. You'll also connect with others\, just like you who can hold you accountable\, encourage you\, and celebrate your progress!
X-ALT-DESC;FMTTYPE=text/html:<span style="color:rgb(60\, 64\, 67)\; font-family:roboto\,arial\,sans-serif\; font-size:17.5px">Peoples Church is hosting a Financial Peace University class starting on Feb. 10th. The class will meet from 5:30-7PM each Wednesday thereafter at the Legacy Center. Class end date is April 21st. For more information and to sign up for the class\, go to&nbsp\;</span><a href="https://bit.ly/3s7hjla" rel="nofollow" style="-webkit-tap-highlight-color: transparent\; text-decoration-line: none\; color: rgb(26\, 115\, 232)\; cursor: pointer\; font-family: Roboto\, Arial\, sans-serif\; font-size: 17.5px\; letter-spacing: 0.25px\;" target="_blank">https://bit.ly/3s7hjla</a><span style="color:rgb(60\, 64\, 67)\; font-family:roboto\,arial\,sans-serif\; font-size:17.5px">. Elementary age child care is available.</span><br />\n<br />\n<span style="color:rgb(60\, 64\, 67)\; font-family:roboto\,arial\,sans-serif\; font-size:17.5px">What to Expect</span><br />\n<br />\n<span style="color:rgb(60\, 64\, 67)\; font-family:roboto\,arial\,sans-serif\; font-size:17.5px">Classes usually last about 120 minutes.</span><br />\n<span style="color:rgb(60\, 64\, 67)\; font-family:roboto\,arial\,sans-serif\; font-size:17.5px">We&#39\;ll meet together to watch and discuss the videos and do activities.</span><br />\n<span style="color:rgb(60\, 64\, 67)\; font-family:roboto\,arial\,sans-serif\; font-size:17.5px">Food will not be provided.</span><br />\n<span style="color:rgb(60\, 64\, 67)\; font-family:roboto\,arial\,sans-serif\; font-size:17.5px">Childcare will be provided for free.</span><br />\n<br />\n<span style="color:rgb(60\, 64\, 67)\; font-family:roboto\,arial\,sans-serif\; font-size:17.5px">Financial Peace University (FPU) is the nine-lesson class that will teach you how to pay off debt\, save and invest for your future. You&rsquo\;ll also connect with others\, just like you who can hold you accountable\, encourage you\, and celebrate your progress!</span>
LOCATION:Peoples Church (Legacy Center) 6644 N 1000 W Rd. Bourbonnais\, IL 60914
UID:e.771.3582
SEQUENCE:3
DTSTAMP:20260420T013733Z
URL:https://business.kankakeecountychamber.com/events/details/financial-peace-university-03-03-2021-3582
END:VEVENT

END:VCALENDAR
