BEGIN:VCALENDAR
VERSION:2.0
PRODID:-//ChamberMaster//Event Calendar 2.0//EN
METHOD:PUBLISH
X-PUBLISHED-TTL:P3D
REFRESH-INTERVAL:P3D
CALSCALE:GREGORIAN
BEGIN:VEVENT
DTSTART;VALUE=DATE:20260319
DTEND;VALUE=DATE:20260320
TRANSP:TRANSPARENT
X-MICROSOFT-CDO-ALLDAYEVENT:TRUE
SUMMARY:Free Cone Day
DESCRIPTION:Free cone day
X-ALT-DESC;FMTTYPE=text/html:Free cone day&nbsp\;
LOCATION:Bourbonnais Dairy Queen
UID:e.771.5820
SEQUENCE:3
DTSTAMP:20260423T051406Z
URL:https://business.kankakeecountychamber.com/events/details/free-cone-day-5820
END:VEVENT

END:VCALENDAR
