BEGIN:VCALENDAR
VERSION:2.0
PRODID:-//ChamberMaster//Event Calendar 2.0//EN
METHOD:PUBLISH
X-PUBLISHED-TTL:P3D
REFRESH-INTERVAL:P3D
CALSCALE:GREGORIAN
BEGIN:VEVENT
DTSTART:20191001T230000Z
DTEND:20191002T000000Z
X-MICROSOFT-CDO-ALLDAYEVENT:FALSE
SUMMARY:Free Narcan Training
DESCRIPTION:During this training participants will receive:\n\nAn overview of the opioid epidemic and understanding addiction\n\n\n\nInstructions on how to use NARCAN   (naloxone HCl) Nasal Spray\, the drug used to reverse opioid overdose\n\n\n\nFREE NARCAN kit(s) containing one 4mg dose of NARCAN  \, one pair of rubber gloves\, and a Narcan use quick guide for yourself or your organization\n\n\n\nFree Substance Use Resource Guides
X-ALT-DESC;FMTTYPE=text/html:<span style="color: rgb(29\, 33\, 41)\; font-family: Helvetica\, Arial\, sans-serif\; font-size: 14px\; white-space: pre-wrap\;">During this training participants will receive:</span><br style="color: rgb(29\, 33\, 41)\; font-family: Helvetica\, Arial\, sans-serif\; font-size: 14px\; white-space: pre-wrap\;" />\n<span style="color: rgb(29\, 33\, 41)\; font-family: Helvetica\, Arial\, sans-serif\; font-size: 14px\; white-space: pre-wrap\;">An overview of the opioid epidemic and understanding addiction</span><br style="color: rgb(29\, 33\, 41)\; font-family: Helvetica\, Arial\, sans-serif\; font-size: 14px\; white-space: pre-wrap\;" />\n<br style="color: rgb(29\, 33\, 41)\; font-family: Helvetica\, Arial\, sans-serif\; font-size: 14px\; white-space: pre-wrap\;" />\n<span style="color: rgb(29\, 33\, 41)\; font-family: Helvetica\, Arial\, sans-serif\; font-size: 14px\; white-space: pre-wrap\;">Instructions on how to use NARCAN &reg\; (naloxone HCl) Nasal Spray\, the drug used to reverse opioid overdose</span><br style="color: rgb(29\, 33\, 41)\; font-family: Helvetica\, Arial\, sans-serif\; font-size: 14px\; white-space: pre-wrap\;" />\n<br style="color: rgb(29\, 33\, 41)\; font-family: Helvetica\, Arial\, sans-serif\; font-size: 14px\; white-space: pre-wrap\;" />\n<span style="color: rgb(29\, 33\, 41)\; font-family: Helvetica\, Arial\, sans-serif\; font-size: 14px\; white-space: pre-wrap\;">FREE NARCAN kit(s) containing one 4mg dose of NARCAN &reg\;\, one pair of rubber gloves\, and a Narcan use quick guide for yourself or your organization</span><br style="color: rgb(29\, 33\, 41)\; font-family: Helvetica\, Arial\, sans-serif\; font-size: 14px\; white-space: pre-wrap\;" />\n<br style="color: rgb(29\, 33\, 41)\; font-family: Helvetica\, Arial\, sans-serif\; font-size: 14px\; white-space: pre-wrap\;" />\n<span style="color: rgb(29\, 33\, 41)\; font-family: Helvetica\, Arial\, sans-serif\; font-size: 14px\; white-space: pre-wrap\;">Free Substance Use Resource Guides</span>
LOCATION:Countryside Community Church 3403 W State Rt. 17
UID:e.771.3005
SEQUENCE:3
DTSTAMP:20260423T003508Z
URL:https://business.kankakeecountychamber.com/events/details/free-narcan-training-3005
END:VEVENT

END:VCALENDAR
