BEGIN:VCALENDAR
VERSION:2.0
PRODID:-//ChamberMaster//Event Calendar 2.0//EN
METHOD:PUBLISH
X-PUBLISHED-TTL:P3D
REFRESH-INTERVAL:P3D
CALSCALE:GREGORIAN
BEGIN:VEVENT
DTSTART:20221015T220000Z
DTEND:20221016T030000Z
X-MICROSOFT-CDO-ALLDAYEVENT:FALSE
SUMMARY:GFWC IL Woman's Club of Kankkakee "Dinner with the Old Bags"
DESCRIPTION:Dinner\, Entertainment and Bucket Auction of new and slightly used purses with goodies inside. All money raised from the auction will go to non profits in the Kankakee Area. Tickets are $40 can be purchased by calling Dondi 815-715-8405 or Eventbrite
X-ALT-DESC;FMTTYPE=text/html:Dinner\, Entertainment and Bucket Auction of new and slightly used purses with goodies inside. All money raised from the auction will go to non profits in the Kankakee Area. Tickets are $40 can be purchased by calling Dondi 815-715-8405 or Eventbrite
LOCATION:Kankakee Civic Auditorium\, 803 S 8th Ave Kankakee IL 60901
UID:e.771.4258
SEQUENCE:3
DTSTAMP:20260420T091939Z
URL:https://business.kankakeecountychamber.com/events/details/gfwc-il-woman-s-club-of-kankkakee-dinner-with-the-old-bags-4258
END:VEVENT

END:VCALENDAR
