BEGIN:VCALENDAR
VERSION:2.0
PRODID:-//ChamberMaster//Event Calendar 2.0//EN
METHOD:PUBLISH
X-PUBLISHED-TTL:P3D
REFRESH-INTERVAL:P3D
CALSCALE:GREGORIAN
BEGIN:VEVENT
DTSTART;VALUE=DATE:20191203
DTEND;VALUE=DATE:20191204
TRANSP:TRANSPARENT
X-MICROSOFT-CDO-ALLDAYEVENT:TRUE
SUMMARY:Giving Tuesday
DESCRIPTION:When was the last time you helped your neighbor? Giving Tuesday is an opportunity for people in our community to rally together\, strengthen lives and build stronger neighborhoods. This year\, Giving Tuesday will be on December 3 and you can join in to help power change for Kankakee County.\n\n\n\nMark your calendar to earn your cape this year by making a gift to United Way of Kankakee & Iroquois Counties.
X-ALT-DESC;FMTTYPE=text/html:When was the last time you helped your neighbor? Giving Tuesday is an opportunity for people in our community to rally together\, strengthen lives and build stronger neighborhoods. This year\, Giving Tuesday will be on December 3 and you can join in to help power change for Kankakee County.<br />\n<br />\nMark your calendar to earn your cape this year by making a gift to United Way of Kankakee &amp\; Iroquois Counties.<br />\n<br />\n&nbsp\;
LOCATION:
UID:e.771.3072
SEQUENCE:3
DTSTAMP:20260422T221811Z
URL:https://business.kankakeecountychamber.com/events/details/giving-tuesday-3072
END:VEVENT

END:VCALENDAR
