BEGIN:VCALENDAR
VERSION:2.0
PRODID:-//ChamberMaster//Event Calendar 2.0//EN
METHOD:PUBLISH
X-PUBLISHED-TTL:P3D
REFRESH-INTERVAL:P3D
CALSCALE:GREGORIAN
BEGIN:VEVENT
DTSTART:20220517T163000Z
DTEND:20220517T180000Z
X-MICROSOFT-CDO-ALLDAYEVENT:FALSE
SUMMARY:Grief Resources in your Community- KAHRMA
DESCRIPTION:Presented by Tyiesha Wade and Katie Canada from Uplifted Care and Jon Dodds Licensed Clinical Professional Counselor
X-ALT-DESC;FMTTYPE=text/html:Presented by Tyiesha Wade and Katie Canada from Uplifted Care and Jon Dodds Licensed Clinical Professional Counselor
LOCATION:Olivet Nazarene University Weber Center- Leadership room 1st floor 1 University Ave Bourbonnais\, IL 60914
UID:e.771.4192
SEQUENCE:3
DTSTAMP:20260425T225432Z
URL:https://business.kankakeecountychamber.com/events/details/grief-resources-in-your-community-kahrma-4192
END:VEVENT

END:VCALENDAR
