BEGIN:VCALENDAR
VERSION:2.0
PRODID:-//ChamberMaster//Event Calendar 2.0//EN
METHOD:PUBLISH
X-PUBLISHED-TTL:P3D
REFRESH-INTERVAL:P3D
CALSCALE:GREGORIAN
BEGIN:VEVENT
DTSTART:20200930T163000Z
DTEND:20200930T173000Z
X-MICROSOFT-CDO-ALLDAYEVENT:FALSE
SUMMARY:Grow Network: Community Conversation about Domestic Violence
DESCRIPTION:A community conversation to protect your employees\, yourself and the next generation. Scheduled for September 30 at 11:30am on FACEBOOK LIVE. Register here or login the day of the event.\n\n\n\nHear from voices in our own community including:\n\nAmy Stroo - KC-CASA\n\nJenny Schoenwetter - Harbor House\n\nAl Swinford - Manteno's Chief of Police\n\nRobin Savage - Agents for Change\, Inc.\n\n\n\nThe Grow Network is a group of business professionals that are looking to create a new way to network. Networking events that include our local non-profits to help expand their reach while we still grow our professional networks.\n\n\n\nTo learn more about the Grow Network\, contact Brent Davis at bdavis@ryanreuminsurance.com\n\n\n\nThis event is a partnership between the Kankakee County Chamber of Commerce\, the Kiwanis Club\, the Manteno Chamber of Commerce and the United Way of Kankakee and Iroquois Counties.
X-ALT-DESC;FMTTYPE=text/html:A community conversation to protect your employees\, yourself and the next generation. Scheduled for September 30 at 11:30am on FACEBOOK LIVE. <a href="https://www.facebook.com/events/300004121277522">Register here</a> or login the day of the event.<br />\n<br />\nHear from voices in our own community including:<br />\nAmy Stroo - KC-CASA<br />\nJenny Schoenwetter - Harbor House<br />\nAl Swinford - Manteno&#39\;s Chief of Police<br />\nRobin Savage - Agents for Change\, Inc.<br />\n<br />\nThe Grow Network is a group of business professionals that are looking to create a new way to network. Networking events that include our local non-profits to help expand their reach while we still grow our professional networks.<br />\n<br />\nTo learn more about the Grow Network\, contact Brent Davis at bdavis@ryanreuminsurance.com<br />\n<br />\nThis event is a partnership between the Kankakee County Chamber of Commerce\, the Kiwanis Club\, the Manteno Chamber of Commerce and the United Way of Kankakee and Iroquois Counties.
LOCATION:FACEBOOK LIVE
UID:e.771.3517
SEQUENCE:3
DTSTAMP:20260422T112944Z
URL:https://business.kankakeecountychamber.com/events/details/grow-network-community-conversation-about-domestic-violence-3517
END:VEVENT

END:VCALENDAR
