BEGIN:VCALENDAR
VERSION:2.0
PRODID:-//ChamberMaster//Event Calendar 2.0//EN
METHOD:PUBLISH
X-PUBLISHED-TTL:P3D
REFRESH-INTERVAL:P3D
CALSCALE:GREGORIAN
BEGIN:VEVENT
DTSTART:20220716T180000Z
DTEND:20220716T200000Z
X-MICROSOFT-CDO-ALLDAYEVENT:FALSE
SUMMARY:H.O.P.E. Fest
DESCRIPTION:Harbor House and Still I Rise organization has collaborated to have a H.O.P.E. Fest\, a family friendly event. There will be a DJ\, live music\, food trucks\, bounce houses\, fun activities\, entertainment\, raffles\, and more.
X-ALT-DESC;FMTTYPE=text/html:Harbor House and Still I Rise organization has collaborated to have a H.O.P.E. Fest\, a family friendly event. There will be a DJ\, live music\, food trucks\, bounce houses\, fun activities\, entertainment\, raffles\, and more.&nbsp\;
LOCATION:Bird Park (Don Palzer Bandshell) 893 W. Station St.\, Kankakee\, IL 60901
UID:e.771.4213
SEQUENCE:3
DTSTAMP:20260422T084122Z
URL:https://business.kankakeecountychamber.com/events/details/h-o-p-e-fest-4213
END:VEVENT

END:VCALENDAR
