BEGIN:VCALENDAR
VERSION:2.0
PRODID:-//ChamberMaster//Event Calendar 2.0//EN
METHOD:PUBLISH
X-PUBLISHED-TTL:P3D
REFRESH-INTERVAL:P3D
CALSCALE:GREGORIAN
BEGIN:VEVENT
DTSTART:20210211T000000Z
DTEND:20210211T010000Z
X-MICROSOFT-CDO-ALLDAYEVENT:FALSE
SUMMARY:Happy Anniversary Midewin NTP - Webinar
DESCRIPTION:Journalist and prairie restoration advocate Bill Kurtis will give a keynote speech in a Silver Anniversary celebration program sponsored by the National Forest Foundation. Two-time James Beard Award-winning Executive Chef Sarah Stegner of Prairie Grass Caf  will demonstrate wellness cooking with prairie ingredients. Register here: https://us02web.zoom.us/meeting/register/tZEtd-isrjsvHN3j8djKo2SIqX_UVrRHhbi9
X-ALT-DESC;FMTTYPE=text/html:Journalist and prairie restoration advocate Bill Kurtis will give a keynote speech in a Silver Anniversary celebration program sponsored by the National Forest Foundation. Two-time James Beard Award-winning Executive Chef Sarah Stegner of Prairie Grass Caf&eacute\; will demonstrate wellness cooking with prairie ingredients. Register here: https://us02web.zoom.us/meeting/register/tZEtd-isrjsvHN3j8djKo2SIqX_UVrRHhbi9
LOCATION:Virtual - Zoom
UID:e.771.3531
SEQUENCE:3
DTSTAMP:20260420T042603Z
URL:https://business.kankakeecountychamber.com/events/details/happy-anniversary-midewin-ntp-webinar-3531
END:VEVENT

END:VCALENDAR
