BEGIN:VCALENDAR
VERSION:2.0
PRODID:-//ChamberMaster//Event Calendar 2.0//EN
METHOD:PUBLISH
X-PUBLISHED-TTL:P3D
REFRESH-INTERVAL:P3D
CALSCALE:GREGORIAN
BEGIN:VEVENT
DTSTART:20200310T220000Z
DTEND:20200311T000000Z
X-MICROSOFT-CDO-ALLDAYEVENT:FALSE
SUMMARY:Happy Hour
DESCRIPTION:Please join us on Tuesday\, March 10th from 5-7 p.m. at Grapes and Hops (251 S. Schulyer Ave. Kankakee) and for a Meet & Greet with the KC-CASA Staff\, Volunteers\, and Board. Learn the ways that you can contribute to the agency through volunteering and support. There will be refreshments provided by KC-CASA and a cash bar. Come mingle at this Happy Hour!
X-ALT-DESC;FMTTYPE=text/html:Please join us on Tuesday\, March 10th from 5-7 p.m. at Grapes and Hops (251 S. Schulyer Ave. Kankakee) and for a Meet &amp\; Greet with the KC-CASA Staff\, Volunteers\, and Board. Learn the ways that you can contribute to the agency through volunteering and support. There will be refreshments provided by KC-CASA and a cash bar. Come mingle at this Happy Hour!
LOCATION:Grapes and Hops 251 S. Schuyler Ave. Kankakee\, IL 60901
UID:e.771.3354
SEQUENCE:3
DTSTAMP:20260422T181858Z
URL:https://business.kankakeecountychamber.com/events/details/happy-hour-3354
END:VEVENT

END:VCALENDAR
