BEGIN:VCALENDAR
VERSION:2.0
PRODID:-//ChamberMaster//Event Calendar 2.0//EN
METHOD:PUBLISH
X-PUBLISHED-TTL:P3D
REFRESH-INTERVAL:P3D
CALSCALE:GREGORIAN
BEGIN:VEVENT
DTSTART;VALUE=DATE:20191025
DTEND;VALUE=DATE:20191026
TRANSP:TRANSPARENT
X-MICROSOFT-CDO-ALLDAYEVENT:TRUE
SUMMARY:Haunted History Hikes
DESCRIPTION:Hiking in the woods of Perry Farm! In the black of night! Destination the Indian Caves along the Kankakee River for local haunted history stories told by Acting Out storytellers around a campfire! S'mores & hot chocolate! Scare factor intense. Ages 10+ Moderately difficult hike. Meet at Exploration Station parking lot 15 minutes before time slot! Three time slots available. Join us if you dare!
X-ALT-DESC;FMTTYPE=text/html:<span style="color: rgb(29\, 33\, 41)\; font-family: Helvetica\, Arial\, sans-serif\; font-size: 14px\; white-space: pre-wrap\;">Hiking in the woods of Perry Farm! In the black of night! Destination the Indian Caves along the Kankakee River for local haunted history stories told by Acting Out storytellers around a campfire! S&#39\;mores &amp\; hot chocolate! Scare factor intense. Ages 10+ Moderately difficult hike. Meet at Exploration Station parking lot 15 minutes before time slot! Three time slots available. Join us if you dare! </span>
LOCATION:Perry Farm 495 N Kennedy Drive Bourbonnais\, IL
UID:e.771.3006
SEQUENCE:3
DTSTAMP:20260423T003519Z
URL:https://business.kankakeecountychamber.com/events/details/haunted-history-hikes-3006
END:VEVENT

END:VCALENDAR
