BEGIN:VCALENDAR
VERSION:2.0
PRODID:-//ChamberMaster//Event Calendar 2.0//EN
METHOD:PUBLISH
X-PUBLISHED-TTL:P3D
REFRESH-INTERVAL:P3D
CALSCALE:GREGORIAN
BEGIN:VEVENT
DTSTART:20211009T223000Z
DTEND:20211010T023000Z
X-MICROSOFT-CDO-ALLDAYEVENT:FALSE
SUMMARY:Haunted Lane presented by CAC
DESCRIPTION:Load up your vehicle and come out to the Point Grove Campground near the Boat Club in Aroma Park\, IL for a Haunting Good Time!\n\nThe Community Arts Council of Kankakee County presents its 2nd Annual "Haunted Lane" at Point Grove Campground in Aroma Park.\n\nThis family friendly event celebrates the Fall/Halloween season featuring a variety of themed activities\, vendors\, and food!\n\nQuestions: cack3event@gmail.com
X-ALT-DESC;FMTTYPE=text/html:Load up your vehicle and come out to the Point Grove Campground near the Boat Club in Aroma Park\, IL for a Haunting Good Time!<br />\nThe Community Arts Council of Kankakee County presents its 2nd Annual &ldquo\;Haunted Lane&rdquo\; at Point Grove Campground in Aroma Park.<br />\nThis family friendly event celebrates the Fall/Halloween season featuring a variety of themed activities\, vendors\, and food!<br />\n<span style="background-color:rgb(255\, 255\, 255)\; color:rgb(51\, 51\, 51)\; font-family:sans-serif\,arial\,verdana\,trebuchet ms\; font-size:13px">Questions: cack3event@gmail.com</span>
LOCATION:Point Grove Campground 507 S. Bridge Street Aroma Park\, IL 60610
UID:e.771.3762
SEQUENCE:3
DTSTAMP:20260419T163930Z
URL:https://business.kankakeecountychamber.com/events/details/haunted-lane-presented-by-cac-3762
END:VEVENT

END:VCALENDAR
