BEGIN:VCALENDAR
VERSION:2.0
PRODID:-//ChamberMaster//Event Calendar 2.0//EN
METHOD:PUBLISH
X-PUBLISHED-TTL:P3D
REFRESH-INTERVAL:P3D
CALSCALE:GREGORIAN
BEGIN:VEVENT
DTSTART;VALUE=DATE:20221218
DTEND;VALUE=DATE:20221219
TRANSP:TRANSPARENT
X-MICROSOFT-CDO-ALLDAYEVENT:TRUE
SUMMARY:"Holiday at Hogwarts"
DESCRIPTION:Holiday at Hogwarts\n\nSelect Dates: December thru January\n\nWitches and Wizards get your "Mrs. Weasley" Holiday sweaters ready because you are invited to the Holiday at Hogwarts!\n\n\n\n?Join us for a night of magical fun in the fully decorated Holiday Hogwarts themed Bennett-Curtis Mansion- with fun scenes & holiday decorations throughout! Get sorted into your house and order drinks from The Leaky Cauldron\, our cash bar\, serving specialty drinks including Polyjuice potion\, Butterbeer\, pumpkin juice\, and more! Then enjoy a themed meal featuring a Family Style Holiday Feast! \n\n\n\nYour evening will begin in the dungeons where you will be sorted into your houses\, you can enjoy potions and brews from our bar\, and partake in an assortment of appetizers. Then you will cross onto Platform 9 3/4 and "travel" to Hogwarts for a spectacular dinner in the fully decorated holiday themed great hall. Be sure to study up on your Harry Potter Trivia\, during dinner you will go head to head with the other houses in a race for the house cup!\n\n\n\nThis events dinner will feature a Holiday Feast served family style to the table!  Be sure to save room for dessert\, we will be featuring many treats and sweets at our Honeyduke's dessert station! \n\n\n\nAfter dinner enjoy special photo opts and even interact with live characters! Adults and Children welcome. We are encouraging guests to come dressed for the occasion\, costumes are encouraged but not required. Limited seating so make your reservations early!
X-ALT-DESC;FMTTYPE=text/html:<h2><a href="https://holidayathogwarts19.eventbrite.com/" style="text-decoration-line: none\; color: rgb(91\, 114\, 220)\; transition: all 0.2s ease-in-out 0s\;" target="_blank">Holiday at Hogwarts</a></h2>\n\n<div><strong>Select Dates: December thru January</strong></div>\n\n<div><span style="color:rgb(0\, 0\, 0)">Witches and Wizards get your &quot\;Mrs. Weasley&quot\; Holiday sweaters ready because you are invited to the Holiday at Hogwarts!<br />\n<br />\n?Join us for a night of magical fun in the fully decorated Holiday Hogwarts themed Bennett-Curtis Mansion- with fun scenes &amp\; holiday decorations throughout! Get sorted into your house and order drinks from The Leaky Cauldron\, our cash bar\, serving specialty drinks including Polyjuice potion\, Butterbeer\, pumpkin juice\, and more! Then enjoy a themed meal featuring a Family Style Holiday Feast!&nbsp\;</span><br />\n<br />\n<span style="color:rgb(0\, 0\, 0)">Your evening will begin in the dungeons where you will be sorted into your houses\, you can enjoy potions and brews from our bar\, and partake in an assortment of appetizers. Then you will cross onto Platform 9 3/4 and &quot\;travel&quot\; to Hogwarts for a spectacular dinner in the fully decorated holiday themed great hall. Be sure to study up on your Harry Potter Trivia\, during dinner you will go head to head with the other houses in a race for the house cup!<br />\n<br />\nThis events dinner will feature a Holiday Feast served family style to the table!&nbsp\;</span><span style="color:rgb(0\, 0\, 0)">&nbsp\;Be sure to save room for dessert\, we will be featuring many treats and sweets at our Honeyduke&#39\;s dessert station!&nbsp\;</span><br />\n<br />\n<span style="color:rgb(0\, 0\, 0)">After dinner enjoy special photo opts and even interact with live characters!&nbsp\;</span><span style="color:rgb(0\, 0\, 0)">Adults and Children welcome. We are encouraging guests to come dressed for the occasion\, costumes are encouraged but not required. Limited seating so make your reservations early!&nbsp\;</span></div>\n
LOCATION:The Bennett-Curtis House 302 W. Taylor St. Grant Park\, IL 60940
UID:e.771.3814
SEQUENCE:3
DTSTAMP:20260420T055706Z
URL:https://business.kankakeecountychamber.com/events/details/holiday-at-hogwarts-12-18-2022-3814
END:VEVENT

END:VCALENDAR
