BEGIN:VCALENDAR
VERSION:2.0
PRODID:-//ChamberMaster//Event Calendar 2.0//EN
METHOD:PUBLISH
X-PUBLISHED-TTL:P3D
REFRESH-INTERVAL:P3D
CALSCALE:GREGORIAN
BEGIN:VEVENT
DTSTART:20220716T180000Z
DTEND:20220716T200000Z
X-MICROSOFT-CDO-ALLDAYEVENT:FALSE
SUMMARY:HOPE Fest
DESCRIPTION:The HOPE Fest\, short for healing opportunity to prevent violence\, is a chance for us to unite as a community and stand against violence of any kind. This free event will include entertainment\, music\, family activities\, bounce houses\, raffles\, and food trucks including Mac's BBQ\, Tacos El Guadalajara\, and Candy and Cake!
X-ALT-DESC;FMTTYPE=text/html:The HOPE Fest\, short for healing opportunity to prevent violence\, is a chance for us to unite as a community and stand against violence of any kind. This free event will include entertainment\, music\, family activities\, bounce houses\, raffles\, and food trucks including Mac&rsquo\;s BBQ\, Tacos El Guadalajara\, and Candy and Cake!
LOCATION:Bird Park Don Palzer Bandshell 893 W Station St. Kankakee\, IL 60901
UID:e.771.4211
SEQUENCE:3
DTSTAMP:20260422T084046Z
URL:https://business.kankakeecountychamber.com/events/details/hope-fest-4211
END:VEVENT

END:VCALENDAR
