BEGIN:VCALENDAR
VERSION:2.0
PRODID:-//ChamberMaster//Event Calendar 2.0//EN
METHOD:PUBLISH
X-PUBLISHED-TTL:P3D
REFRESH-INTERVAL:P3D
CALSCALE:GREGORIAN
BEGIN:VEVENT
DTSTART:20220823T220000Z
DTEND:20220823T233000Z
X-MICROSOFT-CDO-ALLDAYEVENT:FALSE
SUMMARY:Housing Provider Seminar
DESCRIPTION:Kankaee Iroquois Ford Association of Realtors and Illinois Realtors is hosting a Housing Provider Seminar to educate Housing Providers/Landlords  on HB2775 and all the changes that are coming starting January 1\, 2023.  If you own rentals\, this is a must event.
X-ALT-DESC;FMTTYPE=text/html:Kankaee Iroquois Ford Association of Realtors and Illinois Realtors is hosting a Housing Provider Seminar to educate Housing Providers/Landlords&nbsp\; on HB2775 and all the changes that are coming starting January 1\, 2023.&nbsp\; If you own rentals\, this is a must event.&nbsp\; &nbsp\;
LOCATION:Executive Center 4th Fl Auditorium 201 E Merchant St Kankakee\, IL
UID:e.771.4232
SEQUENCE:3
DTSTAMP:20260422T100929Z
URL:https://business.kankakeecountychamber.com/events/details/housing-provider-seminar-4232
END:VEVENT

END:VCALENDAR
