BEGIN:VCALENDAR
VERSION:2.0
PRODID:-//ChamberMaster//Event Calendar 2.0//EN
METHOD:PUBLISH
X-PUBLISHED-TTL:P3D
REFRESH-INTERVAL:P3D
CALSCALE:GREGORIAN
BEGIN:VEVENT
DTSTART:20230516T140000Z
DTEND:20230516T153000Z
X-MICROSOFT-CDO-ALLDAYEVENT:FALSE
SUMMARY:HOW TO GATHER AND PRESENT HR DATA
DESCRIPTION:Put on Your Strategic HR Business Partner Hat Please join us as we discuss how HR professionals can add value by serving as strategic HR business partners. In this session\, you will: learn skills needed and actions to take to demonstrate you are a strategic HR business partner\; be introduced to common HR metrics to track in alignment with your organization's business strategies\; and generate ideas for reporting and using key metrics for your organization. Presented by: Brenda Duncan\, Ally HR Solutions
X-ALT-DESC;FMTTYPE=text/html:Put on Your Strategic HR Business Partner Hat Please join us as we discuss how HR professionals can add value by serving as strategic HR business partners. In this session\, you will: learn skills needed and actions to take to demonstrate you are a strategic HR business partner\; be introduced to common HR metrics to track in alignment with your organization&rsquo\;s business strategies\; and generate ideas for reporting and using key metrics for your organization. Presented by: Brenda Duncan\, Ally HR Solutions
LOCATION:Kankakee Community College- Iroquois Room 100 College Drive Kankakee\, IL 60901
UID:e.771.4611
SEQUENCE:3
DTSTAMP:20260420T000454Z
URL:https://business.kankakeecountychamber.com/events/details/how-to-gather-and-present-hr-data-4611
END:VEVENT

END:VCALENDAR
