BEGIN:VCALENDAR
VERSION:2.0
PRODID:-//ChamberMaster//Event Calendar 2.0//EN
METHOD:PUBLISH
X-PUBLISHED-TTL:P3D
REFRESH-INTERVAL:P3D
CALSCALE:GREGORIAN
BEGIN:VEVENT
DTSTART:20220920T163000Z
DTEND:20220920T180000Z
X-MICROSOFT-CDO-ALLDAYEVENT:FALSE
SUMMARY:HR Team of One- Presented by KAHRMA
DESCRIPTION:HR Department of One Employees are the most valuable asset to any organization. They comprise the culture\, perform the work that enacts the mission\, and pioneer change that propels companies forward. With an asset as essential as employees\, the importance of a human resources department cannot be emphasized enough. While many small businesses do not have the capacity for a department dedicated to HR\, the manager or business owner can facilitate these policies to effectively manage human capital. Register today at: https://kahrma.shrm.org/events
X-ALT-DESC;FMTTYPE=text/html:HR Department of One Employees are the most valuable asset to any organization. They comprise the culture\, perform the work that enacts the mission\, and pioneer change that propels companies forward. With an asset as essential as employees\, the importance of a human resources department cannot be emphasized enough. While many small businesses do not have the capacity for a department dedicated to HR\, the manager or business owner can facilitate these policies to effectively manage human capital. Register today at: https://kahrma.shrm.org/events
LOCATION:Olivet Nazarene University Weber Center- Leadership room 1st floor 1 University Ave Bourbonnais\, IL 60914
UID:e.771.4168
SEQUENCE:3
DTSTAMP:20260422T113735Z
URL:https://business.kankakeecountychamber.com/events/details/hr-team-of-one-presented-by-kahrma-4168
END:VEVENT

END:VCALENDAR
