BEGIN:VCALENDAR
VERSION:2.0
PRODID:-//ChamberMaster//Event Calendar 2.0//EN
METHOD:PUBLISH
X-PUBLISHED-TTL:P3D
REFRESH-INTERVAL:P3D
CALSCALE:GREGORIAN
BEGIN:VEVENT
DTSTART:20191016T230000Z
DTEND:20191017T003000Z
X-MICROSOFT-CDO-ALLDAYEVENT:FALSE
SUMMARY:Ideal Solution's 1st Ever “Fashion Exchange”!!
DESCRIPTION:Do you have a bunch of clothes that no longer fit due to your newfound lifestyle success? Maybe you're currently on your journey and don't want to spend money on new clothes since you can't be too sure what size you will need?\n\nWE HAVE THE SOLUTION!!\n\nBring your unwanted clothes in for an Ideal Protein Fashion Exchange! Swap new sizes with your fellow Ideal Protein family members to help throughout your weight loss and wellness journey!\n\n\n\nTIME TO CLEAN OUT THOSE CLOSETS!
X-ALT-DESC;FMTTYPE=text/html:<p>Do you have a bunch of clothes that no longer fit due to your newfound lifestyle success? Maybe you&#39\;re currently on your journey and don&#39\;t want to spend money on new clothes since you can&#39\;t be too sure what size you will need?</p>\n\n<p><em><strong>WE HAVE THE SOLUTION!!</strong></em></p>\n\n<p>Bring your unwanted clothes in for an Ideal Protein Fashion Exchange! Swap new sizes with your fellow Ideal Protein family members to help throughout your weight loss and wellness journey!<br />\n<br />\n<strong>TIME TO CLEAN OUT THOSE CLOSETS!</strong></p>\n
LOCATION:Ideal Solution Weight Loss 805 N. Kennedy Dr. Ste B Kankakee\, IL 60901
UID:e.771.3008
SEQUENCE:3
DTSTAMP:20260423T003648Z
URL:https://business.kankakeecountychamber.com/events/details/ideal-solution-s-1st-ever-fashion-exchange-3008
END:VEVENT

END:VCALENDAR
