BEGIN:VCALENDAR
VERSION:2.0
PRODID:-//ChamberMaster//Event Calendar 2.0//EN
METHOD:PUBLISH
X-PUBLISHED-TTL:P3D
REFRESH-INTERVAL:P3D
CALSCALE:GREGORIAN
BEGIN:VEVENT
DTSTART:20230428T180000Z
DTEND:20230428T210000Z
X-MICROSOFT-CDO-ALLDAYEVENT:FALSE
SUMMARY:Intermediate Microsoft Word
DESCRIPTION:Work with styles\, sections\, and columns\; formatting tables\; print labels and envelopes\; create templates and use building blocks\; work with graphics and objects\; and manage document revisions.
X-ALT-DESC;FMTTYPE=text/html:Work with styles\, sections\, and columns\; formatting tables\; print labels and envelopes\; create templates and use building blocks\; work with graphics and objects\; and manage document revisions.
LOCATION:KCC Riverfront Room D122
UID:e.771.4581
SEQUENCE:3
DTSTAMP:20260420T013329Z
URL:https://business.kankakeecountychamber.com/events/details/intermediate-microsoft-word-4581
END:VEVENT

END:VCALENDAR
