BEGIN:VCALENDAR
VERSION:2.0
PRODID:-//ChamberMaster//Event Calendar 2.0//EN
METHOD:PUBLISH
X-PUBLISHED-TTL:P3D
REFRESH-INTERVAL:P3D
CALSCALE:GREGORIAN
BEGIN:VEVENT
DTSTART:20230114T150000Z
DTEND:20230114T180000Z
X-MICROSOFT-CDO-ALLDAYEVENT:FALSE
SUMMARY:January Bed Build
DESCRIPTION:It's time to build the beds!\n\nCome join us Saturday January 14 from 9am-noon and have some fun!\n\nWe'll be at Kankakee Community College Manufacturing Center\n\nFollow the link below to sign up\n\nhttps://form.jotform.com/230007196967158
X-ALT-DESC;FMTTYPE=text/html:<div>It&#39\;s time to build the beds!</div>\n\n<div>Come join us Saturday January 14 from 9am-noon and have some fun!</div>\n\n<div>We&#39\;ll be at <span style="font-family:inherit"><a class="x1i10hfl xjbqb8w x6umtig x1b1mbwd xaqea5y xav7gou x9f619 x1ypdohk xt0psk2 xe8uvvx xdj266r x11i5rnm xat24cr x1mh8g0r xexx8yu x4uap5 x18d9i69 xkhd6sd x16tdsg8 x1hl2dhg xggy1nq x1a2a7pz xt0b8zv x1qq9wsj xo1l8bm" href="https://www.facebook.com/Kankakee-Community-College-563225470433858/?__cft__[0]=AZWG2dr1BnJbkoOgOn5WynlyDcs0E8Om-kdzGUGA5p8CzP6Xyivt_CCwa1MIIVVDUoY3sTmtEzuFZ72TGWX8UpVhhSN3DxJFONxAufN4DRbGxeNzQl_V23RWYntKYkiU2_yowXAGIKoaI4b_6surNeLvCSnGfojVOfEH_mTalMIbKko8325Zpwl-Bkac0_WNTWY&amp\;__tn__=kK-R" style="color: var(--accent)\; cursor: pointer\; text-decoration-line: none\; margin: 0px\; text-align: inherit\; padding: 0px\; outline: none\; border-width: 0px\; border-style: initial\; border-color: initial\; -webkit-tap-highlight-color: transparent\; box-sizing: border-box\; list-style: none\; touch-action: manipulation\; background-color: transparent\; display: inline\; font-family: inherit\;" tabindex="0"><span style="font-family:inherit">Kankakee Community College</span></a></span> Manufacturing Center</div>\n\n<div>Follow the link below to sign up</div>\n\n<div><span style="font-family:inherit"><a class="x1i10hfl xjbqb8w x6umtig x1b1mbwd xaqea5y xav7gou x9f619 x1ypdohk xt0psk2 xe8uvvx xdj266r x11i5rnm xat24cr x1mh8g0r xexx8yu x4uap5 x18d9i69 xkhd6sd x16tdsg8 x1hl2dhg xggy1nq x1a2a7pz xt0b8zv x1fey0fg" href="https://form.jotform.com/230007196967158?fbclid=IwAR3R5KwINNxV_N0ZZSDfHpry9Xzc1JnfKKbmQHi0KKGC62OYnNky9sBpQI0" rel="nofollow noopener" style="color: var(--blue-link)\; cursor: pointer\; text-decoration-line: none\; margin: 0px\; text-align: inherit\; padding: 0px\; outline: none\; border-width: 0px\; border-style: initial\; border-color: initial\; -webkit-tap-highlight-color: transparent\; box-sizing: border-box\; list-style: none\; touch-action: manipulation\; background-color: transparent\; display: inline\; font-family: inherit\;" tabindex="0" target="_blank">https://form.jotform.com/230007196967158</a></span></div>\n
LOCATION:KCC Manufacturing & Industrial Center 2580 US45 Kankakee IL 60901
UID:e.771.4273
SEQUENCE:3
DTSTAMP:20260420T054709Z
URL:https://business.kankakeecountychamber.com/events/details/january-bed-build-4273
END:VEVENT

END:VCALENDAR
