BEGIN:VCALENDAR
VERSION:2.0
PRODID:-//ChamberMaster//Event Calendar 2.0//EN
METHOD:PUBLISH
X-PUBLISHED-TTL:P3D
REFRESH-INTERVAL:P3D
CALSCALE:GREGORIAN
BEGIN:VEVENT
DTSTART:20191017T230000Z
DTEND:20191018T010000Z
X-MICROSOFT-CDO-ALLDAYEVENT:FALSE
SUMMARY:Jingle Bell Run Kickoff
DESCRIPTION:Jingle Bell Run kickoff party\, from 6-8 p.m.\, Thursday\, Oct. 17 at Adventure Commons. This is a free event. Come learn about the run/walk. Opportunities to help charity by fundraising and volunteering. Free pizza dinner\, but you must RSVP by Oct. 15 to money@arthritis.org
X-ALT-DESC;FMTTYPE=text/html:Jingle Bell Run kickoff party\, from 6-8 p.m.\, Thursday\, Oct. 17 at Adventure Commons. This is a free event. Come learn about the run/walk. Opportunities to help charity by fundraising and volunteering. Free pizza dinner\, but you must RSVP by Oct. 15 to money@arthritis.org
LOCATION:Adventure Commons\, 70 Ken Hayes Drive\, Bradley. Formerly Hidden Cove
UID:e.771.3015
SEQUENCE:3
DTSTAMP:20260423T014901Z
URL:https://business.kankakeecountychamber.com/events/details/jingle-bell-run-kickoff-3015
END:VEVENT

END:VCALENDAR
