BEGIN:VCALENDAR
VERSION:2.0
PRODID:-//ChamberMaster//Event Calendar 2.0//EN
METHOD:PUBLISH
X-PUBLISHED-TTL:P3D
REFRESH-INTERVAL:P3D
CALSCALE:GREGORIAN
BEGIN:VEVENT
DTSTART:20220609T123000Z
DTEND:20220609T140000Z
X-MICROSOFT-CDO-ALLDAYEVENT:FALSE
SUMMARY:June 2022 Board of Directors Program Report
DESCRIPTION:The Economic Alliance of Kankakee County is a 501c6 public/private partnership tasked with encouraging and facilitating new investment in the Greater Chicago community of Kankakee County\, Illinois. We approach our mission in the spirit of collaboration in order to move the needle in sustainable and equitable ways across the interconnected realms of business\, workforce and community development.\n\n\nTo support new investment\, commercial\, industrial and residential investors can access a suite of financial incentives. The Alliance also leverages a number of business intelligence tools\, providing current property availabilities\, market data and other information on demand.\n\n\nThe Economic Alliance holds regular meetings of its board of directors\, generally on the second Thursdays of the scheduled months at 7:30 a.m. Meeting locations are TBD\, and are open to the public.\n\nConfirmed 2022 BoD meeting dates are:\n\n\n	February 10\n	April 14\n	June 9\n	September 8\n	November 10
X-ALT-DESC;FMTTYPE=text/html:<p>The Economic Alliance of Kankakee County is a 501c6 public/private partnership tasked with encouraging and facilitating new investment in the Greater Chicago community of Kankakee County\, Illinois. We approach our mission in the spirit of collaboration in order to move the needle in sustainable and equitable ways across the interconnected realms of business\, workforce and community development.</p>\n\n<div>\n<p>To support new investment\, commercial\, industrial and residential investors can access a suite of financial incentives. The Alliance also leverages a number of business intelligence tools\, providing current property availabilities\, market data and other information on demand.</p>\n</div>\n\n<p>The Economic Alliance holds regular meetings of its board of directors\, generally on the second Thursdays of the scheduled months at 7:30 a.m. Meeting locations are TBD\, and are open to the public.</p>\n\n<p>Confirmed 2022 BoD meeting dates are:</p>\n\n<ul>\n	<li>February 10</li>\n	<li>April 14</li>\n	<li>June 9</li>\n	<li>September 8</li>\n	<li>November 10</li>\n</ul>\n
LOCATION:TBD
UID:e.771.4024
SEQUENCE:3
DTSTAMP:20260420T073720Z
URL:https://business.kankakeecountychamber.com/events/details/june-2022-board-of-directors-program-report-4024
END:VEVENT

END:VCALENDAR
