BEGIN:VCALENDAR
VERSION:2.0
PRODID:-//ChamberMaster//Event Calendar 2.0//EN
METHOD:PUBLISH
X-PUBLISHED-TTL:P3D
REFRESH-INTERVAL:P3D
CALSCALE:GREGORIAN
BEGIN:VEVENT
DTSTART:20191015T170000Z
DTEND:20191015T170000Z
X-MICROSOFT-CDO-ALLDAYEVENT:FALSE
SUMMARY:KAHRMA Half Day Seminar
DESCRIPTION:Leadership Seminar: The Giving Challenge: How Giving Will Stretch You in Goals\, Gratitude and Giving Cost includes breakfast\, lunch\, autographed book The Giving Challenge\, and seminar
X-ALT-DESC;FMTTYPE=text/html:Leadership Seminar: The Giving Challenge: How Giving Will Stretch You in Goals\, Gratitude and Giving Cost includes breakfast\, lunch\, autographed book The Giving Challenge\, and seminar
LOCATION:Kankakee Community College 100 College Dr\, Kankakee Iroquois Room in Workforce Development Building
UID:e.771.2997
SEQUENCE:3
DTSTAMP:20260423T003637Z
URL:https://business.kankakeecountychamber.com/events/details/kahrma-half-day-seminar-2997
END:VEVENT

END:VCALENDAR
