BEGIN:VCALENDAR
VERSION:2.0
PRODID:-//ChamberMaster//Event Calendar 2.0//EN
METHOD:PUBLISH
X-PUBLISHED-TTL:P3D
REFRESH-INTERVAL:P3D
CALSCALE:GREGORIAN
BEGIN:VEVENT
DTSTART;VALUE=DATE:20200423
DTEND;VALUE=DATE:20200424
TRANSP:TRANSPARENT
X-MICROSOFT-CDO-ALLDAYEVENT:TRUE
SUMMARY:Kankakee County Day in Springfield
DESCRIPTION:The Voice of Business committee of the Kankakee County Chamber of Commerce invites you to join them for a trip to Springfield on Thursday\, April 23rd. Visit our state senators and representatives as well as a few key offices to let your voice be heard. Please contact the Chamber for more details on this one day trip to the Illinois State Capital.
X-ALT-DESC;FMTTYPE=text/html:The Voice of Business committee of the Kankakee County Chamber of Commerce invites you to join them for a trip to Springfield on Thursday\, April 23rd. Visit our state senators and representatives as well as a few key offices to let your voice be heard. Please contact the Chamber for more details on this one day trip to the Illinois State Capital.&nbsp\;&nbsp\;&nbsp\;&nbsp\;&nbsp\;
LOCATION:Illinois State Capitol Building Springfield\, IL
UID:e.771.3080
SEQUENCE:3
DTSTAMP:20260422T165938Z
URL:https://business.kankakeecountychamber.com/events/details/kankakee-county-day-in-springfield-3080
END:VEVENT

END:VCALENDAR
