BEGIN:VCALENDAR
VERSION:2.0
PRODID:-//ChamberMaster//Event Calendar 2.0//EN
METHOD:PUBLISH
X-PUBLISHED-TTL:P3D
REFRESH-INTERVAL:P3D
CALSCALE:GREGORIAN
BEGIN:VEVENT
DTSTART:20230503T180000Z
DTEND:20230503T191500Z
X-MICROSOFT-CDO-ALLDAYEVENT:FALSE
SUMMARY:Kankakee's Baseball Heritage
DESCRIPTION:The discussion centers on five major league baseball stars whose lives touched Kankakee. Included in the discussion: Hall of Famer Sam Rice\; Manager Casey Stengel\, "the Old Professor"\; Rube Foster\, commissioner of the Negro National League\; Arch Ward\, founder of the All-Star Game\; and Ben Zobrist\, World Series MVP.
X-ALT-DESC;FMTTYPE=text/html:The discussion centers on five major league baseball stars whose lives touched Kankakee. Included in the discussion: Hall of Famer Sam Rice\; Manager Casey Stengel\, &quot\;the Old Professor&quot\;\; Rube Foster\, commissioner of the Negro National League\; Arch Ward\, founder of the All-Star Game\; and Ben Zobrist\, World Series MVP.
LOCATION:KCC Room D152
UID:e.771.4591
SEQUENCE:3
DTSTAMP:20260420T000439Z
URL:https://business.kankakeecountychamber.com/events/details/kankakee-s-baseball-heritage-4591
END:VEVENT

END:VCALENDAR
