BEGIN:VCALENDAR
VERSION:2.0
PRODID:-//ChamberMaster//Event Calendar 2.0//EN
METHOD:PUBLISH
X-PUBLISHED-TTL:P3D
REFRESH-INTERVAL:P3D
CALSCALE:GREGORIAN
BEGIN:VEVENT
DTSTART:20230305T010000Z
DTEND:20230305T030000Z
X-MICROSOFT-CDO-ALLDAYEVENT:FALSE
SUMMARY:Kankakee Valley Symphony Orchestra Concert
DESCRIPTION:In addition to the symphony orchestra\, this program will feature Morning Star Baptist Church choir members and KVSO Chorus members singing works including a very cool Abba Medley and Dancing Queen/Waterloo Encore. Also on the program will be an Octet for Brasses and Piano by woman of color Florence Price as well as My Fair Lady  and Beauty and the Beast.
X-ALT-DESC;FMTTYPE=text/html:<span style="background-color:rgb(255\, 255\, 255)\; color:rgb(104\, 104\, 104)\; font-family:noto sans">&nbsp\;In addition to the symphony orchestra\, this program will feature Morning Star Baptist Church choir members and KVSO Chorus members singing works including a very cool Abba Medley and Dancing Queen/Waterloo Encore. Also on the program will be an Octet for Brasses and Piano by woman of color Florence Price as well as My Fair Lady&nbsp\; and Beauty and the Beast.</span>
LOCATION:Morning Star Baptist Church \, 570 N. Harrison Ave.\, Kankakee\, IL
UID:e.771.4562
SEQUENCE:3
DTSTAMP:20260420T030823Z
URL:https://business.kankakeecountychamber.com/events/details/kankakee-valley-symphony-orchestra-concert-03-04-2023-4562
END:VEVENT

END:VCALENDAR
