BEGIN:VCALENDAR
VERSION:2.0
PRODID:-//ChamberMaster//Event Calendar 2.0//EN
METHOD:PUBLISH
X-PUBLISHED-TTL:P3D
REFRESH-INTERVAL:P3D
CALSCALE:GREGORIAN
BEGIN:VEVENT
DTSTART:20221204T210000Z
DTEND:20221204T230000Z
X-MICROSOFT-CDO-ALLDAYEVENT:FALSE
SUMMARY:Kankakee Valley Symphony Orchestra Concert
DESCRIPTION:KVSO Concertmaster\, Christopher Gottardi-Littel\, will be the featured soloist playing Winter from Antonio Vivaldi's Seasons. Four works will be focused on riding in sleighs together   Sleigh Ride by Leroy Anderson\, another Sleigh Ride by Frederick Delius\, Schlittenfahrt (Sleigh Ride) by Wolfgang A. Mozart and Troike (a sleigh ride) from "Lieutenant Kije". The second half of the program will have the traditional sing-alongs\, Kwanza Celebration by KVSO Principal Percussionist Steve Betz\, Festive Sounds of Hanukkah arranged by Bill Holcombe and a hilarious arrangement by Jim Stephenson titled BasSOON it will be Christmas!
X-ALT-DESC;FMTTYPE=text/html:<span style="color:#050505"><span style="font-family:segoe ui historic\,sans-serif"><span style="font-size:11.5pt">KVSO Concertmaster\, Christopher Gottardi-Littel\, will be the featured soloist playing <em>Winter</em> from Antonio Vivaldi&rsquo\;s <em>Seasons</em>. Four works will be focused on riding in sleighs together &ndash\; <em>Sleigh Ride</em> by Leroy Anderson\, another <em>Sleigh Ride</em> by Frederick Delius\, <em>Schlittenfahrt</em> (Sleigh Ride) by Wolfgang A. Mozart and <em>Troike</em> (a sleigh ride) from &ldquo\;Lieutenant Kije&rdquo\;. The second half of the program will have the traditional sing-alongs\, <em>Kwanza Celebration</em> by KVSO Principal Percussionist Steve Betz\, <em>Festive Sounds of Hanukkah</em> arranged by Bill Holcombe and a hilarious arrangement by Jim Stephenson titled <em>BasSOON it will be Christmas</em>!&nbsp\;</span></span></span>
LOCATION:Dr. Kay Green Auditorium for the Performing Arts\, at the Lincoln Cultural Center\, 240 Warren Avenue\, Kankakee.
UID:e.771.4270
SEQUENCE:3
DTSTAMP:20260420T071645Z
URL:https://business.kankakeecountychamber.com/events/details/kankakee-valley-symphony-orchestra-concert-12-04-2022-4270
END:VEVENT

END:VCALENDAR
