BEGIN:VCALENDAR
VERSION:2.0
PRODID:-//ChamberMaster//Event Calendar 2.0//EN
METHOD:PUBLISH
X-PUBLISHED-TTL:P3D
REFRESH-INTERVAL:P3D
CALSCALE:GREGORIAN
BEGIN:VEVENT
DTSTART:20200327T223000Z
DTEND:20200328T030000Z
X-MICROSOFT-CDO-ALLDAYEVENT:FALSE
SUMMARY:KC-CASAs Glo Bingo
DESCRIPTION:Join us at GLO BINGO on Friday\, March 27th at Kankakee County Fairgrounds Expo Center. Doors open at 5:30 p.m. (open seating) and bingo starts 6:30 p.m. Glo Bingo is not your Grandma's bingo but it's a special 18 years and older night of high energy\, loud music\, black lights\,raffles\, and tons of fun! Cash bar and food will be available for purchase. Tickets are $30 and include 6 bingo cards\, glow hat\, and bingo dauber. Tickets are available online at kc-casa.org/events or you may purchase tickets by calling 815-932-7273. Can't make the event but still want to support survivors? Donate today! Sponsorship is a great way to promote your business or organization while making a difference. Please contact Shlinda at 815-932-7273 ext. 210 or strudeau@kc-casa.org to make a donation. All proceeds raised will aid in efforts to support survivors in our community. We believe & support you. KC-CASA helps create a world where victims of sexual harm can speak up\, heal\, and thrive. For more information\, please call our office at 815-932-7273 or visit www.kc-casa.org
X-ALT-DESC;FMTTYPE=text/html:Join us at GLO BINGO on Friday\, March 27th at Kankakee County Fairgrounds Expo Center. Doors open at 5:30 p.m. (open seating) and bingo starts 6:30 p.m. Glo Bingo is not your Grandma&rsquo\;s bingo but it&rsquo\;s a special 18 years and older night of high energy\, loud music\, black lights\,raffles\, and tons of fun! Cash bar and food will be available for purchase. Tickets are $30 and include 6 bingo cards\, glow hat\, and bingo dauber. Tickets are available online at kc-casa.org/events or you may purchase tickets by calling 815-932-7273. Can&#39\;t make the event but still want to support survivors? Donate today! Sponsorship is a great way to promote your business or organization while making a difference. Please contact Shlinda at 815-932-7273 ext. 210 or strudeau@kc-casa.org to make a donation. All proceeds raised will aid in efforts to support survivors in our community. We believe &amp\; support you. KC-CASA helps create a world where victims of sexual harm can speak up\, heal\, and thrive. For more information\, please call our office at 815-932-7273 or visit www.kc-casa.org
LOCATION:Kankakee County Fair and Exposition 213 West 4000 Road South\, Kankakee\, IL\, 60901
UID:e.771.3355
SEQUENCE:3
DTSTAMP:20260422T182118Z
URL:https://business.kankakeecountychamber.com/events/details/kc-casas-glo-bingo-3355
END:VEVENT

END:VCALENDAR
