BEGIN:VCALENDAR
VERSION:2.0
PRODID:-//ChamberMaster//Event Calendar 2.0//EN
METHOD:PUBLISH
X-PUBLISHED-TTL:P3D
REFRESH-INTERVAL:P3D
CALSCALE:GREGORIAN
BEGIN:VEVENT
DTSTART:20251204T233000Z
DTEND:20251205T050000Z
X-MICROSOFT-CDO-ALLDAYEVENT:FALSE
SUMMARY:KCC to host free 'Pack the Place' basketball event
DESCRIPTION:Fans are invited to wear scarlet and navy for "Pack the Place" basketball activities on Thursday\, Dec. 4 at Kankakee Community College.\n\n\n\nThe Lady Cavaliers play Illinois Central College at 5:30 p.m.\, and the men play Daley College at 7:30 p.m. Both games will be in the George H. Ryan Gymnasium at KCC. Admission is free and there will also be FREE refreshments while supplies last.\n\nFor questions or more information about the Pack the House events\, contact Maurice Sullivan at msullivan@kcc.edu. More information on Cavaliers athletics is at www.kcc.edu/athletics.\n\n\n\nKCC is at 100 College Drive in Kankakee. Directions are on KCC's website.
X-ALT-DESC;FMTTYPE=text/html:<span style="font-size:12pt\;">Fans are invited to wear scarlet and navy for &quot\;Pack the Place&quot\; basketball activities on Thursday\, Dec. 4 at Kankakee Community College.</span><br />\n<br />\n<span style="font-size:12pt\;">The Lady Cavaliers play Illinois Central College at 5:30 p.m.\, and the men play Daley College at 7:30 p.m. Both games will be in the George H. Ryan Gymnasium at KCC. Admission is free and there will also be FREE refreshments while supplies last.</span><br />\n<span style="font-size:12pt\;">For questions or more information about the Pack the House events\, contact Maurice Sullivan at&nbsp\;<a href="mailto:msullivan@kcc.edu" style="color:rgb(17\, 85\, 204)\;" target="_blank">msullivan@kcc.edu</a>. More information on Cavaliers athletics is at&nbsp\;<a data-saferedirecturl="https://www.google.com/url?q=http://www.kcc.edu/athletics&amp\;source=gmail&amp\;ust=1764185192618000&amp\;usg=AOvVaw1474DqNB7QTkFuIEVfFL9i" href="http://www.kcc.edu/athletics" style="color:rgb(17\, 85\, 204)\;" target="_blank">www.kcc.edu/athletics</a>.</span><br />\n<br />\n<span style="font-size:12pt\;">KCC is at 100 College Drive in Kankakee. Directions are on&nbsp\;<a data-saferedirecturl="https://www.google.com/url?q=http://www.kcc.edu/about/visitor-information&amp\;source=gmail&amp\;ust=1764185192618000&amp\;usg=AOvVaw1l6CEVdtWDCm8RGV6p_r5L" href="http://www.kcc.edu/about/visitor-information" style="color:rgb(17\, 85\, 204)\;" target="_blank">KCC&rsquo\;s website</a>.</span>
LOCATION:
UID:e.771.5484
SEQUENCE:3
DTSTAMP:20260423T110443Z
URL:https://business.kankakeecountychamber.com/events/details/kcc-to-host-free-pack-the-place-basketball-event-5484
END:VEVENT

END:VCALENDAR
