BEGIN:VCALENDAR
VERSION:2.0
PRODID:-//ChamberMaster//Event Calendar 2.0//EN
METHOD:PUBLISH
X-PUBLISHED-TTL:P3D
REFRESH-INTERVAL:P3D
CALSCALE:GREGORIAN
BEGIN:VEVENT
DTSTART:20221106T000000Z
DTEND:20221106T013000Z
X-MICROSOFT-CDO-ALLDAYEVENT:FALSE
SUMMARY:KVSO Chamber Concert
DESCRIPTION:The second concert of the Kankakee Valley Symphony Orchestra features Laura Neisler\, the KVSO principal oboist\, along with Mozart's Symphony #25 first movement and other works including the newer Roustom piece\, Dabke. This concert showcases the power of nature.
X-ALT-DESC;FMTTYPE=text/html:The second concert of the Kankakee Valley Symphony Orchestra features Laura Neisler\, the KVSO principal oboist\, along with Mozart&#39\;s Symphony #25 first movement and other works including the newer Roustom piece\, Dabke. This concert showcases the power of nature.
LOCATION:Asbury United Methodist Church 196 S. Harrison Ave. Kankakee\, IL
UID:e.771.4264
SEQUENCE:3
DTSTAMP:20260420T071301Z
URL:https://business.kankakeecountychamber.com/events/details/kvso-chamber-concert-4264
END:VEVENT

END:VCALENDAR
