BEGIN:VCALENDAR
VERSION:2.0
PRODID:-//ChamberMaster//Event Calendar 2.0//EN
METHOD:PUBLISH
X-PUBLISHED-TTL:P3D
REFRESH-INTERVAL:P3D
CALSCALE:GREGORIAN
BEGIN:VEVENT
DTSTART:20191110T010000Z
DTEND:20191110T023000Z
X-MICROSOFT-CDO-ALLDAYEVENT:FALSE
SUMMARY:KVSO Concert: Children's Movie Classics
DESCRIPTION:Join us for our November concert\, devoted to music used in children's movies! The theme for Bugs Bunny used Wagner's Rienzi and Stravinsky's Rite of Spring was used in Fantasia. The November program features a wonderful arrangement of music for Harry Potter and the Deathly Hallows and Music from Frozen. You will want to sing along!
X-ALT-DESC;FMTTYPE=text/html:Join us for our November concert\, devoted to music used in children&rsquo\;s movies! The theme for Bugs Bunny used Wagner&rsquo\;s Rienzi and Stravinsky&rsquo\;s Rite of Spring was used in Fantasia. The November program features a wonderful arrangement of music for Harry Potter and the Deathly Hallows and Music from Frozen. You will want to sing along!
LOCATION:Olivet Nazarene University's Kenneth & Betty Hawkins Centennial Chapel
UID:e.771.3037
SEQUENCE:3
DTSTAMP:20260422T232831Z
URL:https://business.kankakeecountychamber.com/events/details/kvso-concert-children-s-movie-classics-3037
END:VEVENT

END:VCALENDAR
