BEGIN:VCALENDAR
VERSION:2.0
PRODID:-//ChamberMaster//Event Calendar 2.0//EN
METHOD:PUBLISH
X-PUBLISHED-TTL:P3D
REFRESH-INTERVAL:P3D
CALSCALE:GREGORIAN
BEGIN:VEVENT
DTSTART:20200301T010000Z
DTEND:20200301T023000Z
X-MICROSOFT-CDO-ALLDAYEVENT:FALSE
SUMMARY:KVSO Concert - Romantic Classics
DESCRIPTION:Love music will be the theme for our February concert because it's close to Valentine's Day! Enjoy the KVSO choir and KVSO performing Beauty and the Beast\, Phantom of the Opera\, Send in the Clowns\, an interesting arrangement of Queen's Bohemian Rhapsody and other romantic works. Featuring soloist Rachel Jacklin and pianist Young Whun Kim of Seoul\, South Korea. Young Whun will perform with the KVSO during Beethoven's Choral Fantasy. Young Whun is an active soloist\, chamber musician and collaborative pianist both in the United States and South Korea.
X-ALT-DESC;FMTTYPE=text/html:Love music will be the theme for our February concert because it&rsquo\;s close to Valentine&rsquo\;s Day! Enjoy the KVSO choir and KVSO performing Beauty and the Beast\, Phantom of the Opera\, Send in the Clowns\, an interesting arrangement of Queen&rsquo\;s Bohemian Rhapsody and other romantic works. Featuring soloist Rachel Jacklin and pianist Young Whun Kim of Seoul\, South Korea. Young Whun will perform with the KVSO during Beethoven&rsquo\;s Choral Fantasy. Young Whun is an active soloist\, chamber musician and collaborative pianist both in the United States and South Korea.
LOCATION:Centennial Chapel\, Olivet Nazarene University\, Bourbonnais\, IL
UID:e.771.3330
SEQUENCE:3
DTSTAMP:20260422T194446Z
URL:https://business.kankakeecountychamber.com/events/details/kvso-concert-romantic-classics-3330
END:VEVENT

END:VCALENDAR
