BEGIN:VCALENDAR
VERSION:2.0
PRODID:-//ChamberMaster//Event Calendar 2.0//EN
METHOD:PUBLISH
X-PUBLISHED-TTL:P3D
REFRESH-INTERVAL:P3D
CALSCALE:GREGORIAN
BEGIN:VEVENT
DTSTART:20221210T010000Z
DTEND:20221211T200000Z
X-MICROSOFT-CDO-ALLDAYEVENT:FALSE
SUMMARY:KVTA’s Plaid Tidings
DESCRIPTION:Kankakee Valley Theatre Association is pleased to announce the second show of their 2022-2023 season\, FOREVER PLAID: PLAID TIDINGS - a show that offers the best of Forever Plaid\, tied up in a nifty package with a big Christmas bow on top! Filled with Christmas standards that have all been "Plaid-erized\," our boys are back to do their Christmas Special. At first\, Francis\, Jinx\, Smudge\, and Sparky aren't sure why they've returned to Earth for another posthumous performance\, but a phone call from the heavenly Rosemary Clooney lets them know that they're needed to put a little harmony into a discordant world. Sprinkled among the Christmas offerings are audience favorites\, like their riotous three-minute-and-eleven-second version of The Ed Sullivan Show   this time\, featuring the Rockettes\, the Chipmunks and The Vienna Boys Choir\, as well as a Plaid Caribbean Christmas that puts the "Day-O" in Excelsis!
X-ALT-DESC;FMTTYPE=text/html:Kankakee Valley Theatre Association is pleased to announce the second show of their 2022-2023 season\, FOREVER PLAID: PLAID TIDINGS - a show that offers the best of Forever Plaid\, tied up in a nifty package with a big Christmas bow on top! Filled with Christmas standards that have all been &quot\;Plaid-erized\,&quot\; our boys are back to do their Christmas Special. At first\, Francis\, Jinx\, Smudge\, and Sparky aren&#39\;t sure why they&#39\;ve returned to Earth for another posthumous performance\, but a phone call from the heavenly Rosemary Clooney lets them know that they&#39\;re needed to put a little harmony into a discordant world. Sprinkled among the Christmas offerings are audience favorites\, like their riotous three-minute-and-eleven-second version of The Ed Sullivan Show &ndash\; this time\, featuring the Rockettes\, the Chipmunks and The Vienna Boys Choir\, as well as a Plaid Caribbean Christmas that puts the &quot\;Day-O&quot\; in Excelsis!
LOCATION:KVTA Studios Black Box 1 Stuart Dr. Kankakee\, IL 60901
UID:e.771.4269
SEQUENCE:3
DTSTAMP:20260420T071322Z
URL:https://business.kankakeecountychamber.com/events/details/kvta-s-plaid-tidings-4269
END:VEVENT

END:VCALENDAR
