BEGIN:VCALENDAR
VERSION:2.0
PRODID:-//ChamberMaster//Event Calendar 2.0//EN
METHOD:PUBLISH
X-PUBLISHED-TTL:P3D
REFRESH-INTERVAL:P3D
CALSCALE:GREGORIAN
BEGIN:VEVENT
DTSTART:20200315T000000Z
DTEND:20200315T030000Z
X-MICROSOFT-CDO-ALLDAYEVENT:FALSE
SUMMARY:Laugh For A Cause
DESCRIPTION:Get ready for a fantastic evening of laughter! Back by popular demand\, Harbor House is once again hosting the cast of The Second City in their hilarious "The Best of Second City" show. Join us at Laugh for a Cause to benefit services that support and empower survivors of domestic violence. There will be silent and live auctions and raffles\, as well as drinks for purchase.
X-ALT-DESC;FMTTYPE=text/html:Get ready for a fantastic evening of laughter! Back by popular demand\, Harbor House is once again hosting the cast of The Second City in their hilarious &quot\;The Best of Second City&quot\; show. Join us at Laugh for a Cause to benefit services that support and empower survivors of domestic violence. There will be silent and live auctions and raffles\, as well as drinks for purchase.
LOCATION:Knights of Columbus 187 S Indiana Ave Kankakee\, IL 60901
UID:e.771.3090
SEQUENCE:3
DTSTAMP:20260422T182228Z
URL:https://business.kankakeecountychamber.com/events/details/laugh-for-a-cause-03-14-2020-3090
END:VEVENT

END:VCALENDAR
