BEGIN:VCALENDAR
VERSION:2.0
PRODID:-//ChamberMaster//Event Calendar 2.0//EN
METHOD:PUBLISH
X-PUBLISHED-TTL:P3D
REFRESH-INTERVAL:P3D
CALSCALE:GREGORIAN
BEGIN:VEVENT
DTSTART:20200206T173000Z
DTEND:20200206T190000Z
X-MICROSOFT-CDO-ALLDAYEVENT:FALSE
SUMMARY:Leadership and Lunch
DESCRIPTION:SOLD OUT\n\nYou're invited to Leadership and Lunch\, presented by Dr. Michael Boyd\, President of Kankakee Community College. Enjoy lunch at Olivet's Chalfant Hall and glean leadership insights from one of our community's key leaders. We encourage you and your employees to attend this event for an hour of professional development. \n\n\n\nFor sponsorship opportunities and member discounts\, please click register now and login. For assistance with login\, contact Tommy at (815) 351-9068 or info@kankakeecountychamber.com \n\n\n\nThank you to our Title Sponsor\, Olivet Nazarene University\n\nLeadership Sponsor\, AMITA Health St. Mary's Hospital\n\nLeadership Sponsor\, Peoples Bank of Kankakee County\n\nLeadership Sponsor\, Riverside Healthcare\n\nLeadership Sponsor\, Ravenspring Creative\n\nLeadership Sponsor\, Milner Media\n\nGold Sponsor\, Linkpoint Media\n\nGold Sponsor\, WGFA\n\nGold Sponsor\, STARadio\n\nSilver Sponsor\, Home Helpers\n\nSilver Sponsor\, Iroquois Federal
X-ALT-DESC;FMTTYPE=text/html:<p><em><strong>SOLD OUT</strong></em><br />\nYou&#39\;re invited to Leadership and Lunch\, presented by Dr. Michael Boyd\, President of Kankakee Community College. Enjoy lunch at Olivet&#39\;s Chalfant Hall and glean leadership insights from one of our community&#39\;s key leaders. We encourage you and your employees to attend this event for an hour of professional development.&nbsp\;<br />\n<br />\nFor sponsorship opportunities and member discounts\, please click register now and <strong>login</strong>. For assistance with login\, contact Tommy at (815) 351-9068 or info@kankakeecountychamber.com&nbsp\;<br />\n<br />\n<strong>Thank you to our Title Sponsor</strong>\, <a href="https://www.olivet.edu/">Olivet Nazarene University</a><br />\nLeadership Sponsor\, <a href="https://www.amitahealth.org/our-locations/hospitals/amita-health-st-mary-s-hospital-kankakee/">AMITA Health St. Mary&#39\;s Hospital</a><br />\nLeadership Sponsor\, <a href="https://www.peoplesbankdirect.com/">Peoples Bank of Kankakee County</a><br />\nLeadership Sponsor\, <a href="https://www.riversidehealthcare.org/">Riverside Healthcare</a><br />\nLeadership Sponsor\, <a href="https://www.ravenspringcreative.com/">Ravenspring Creative</a><br />\nLeadership Sponsor\, <a href="http://rivervalleyradio.net/">Milner Media</a><br />\nGold Sponsor\, <a href="https://www.linkpointmedia.com/">Linkpoint Media</a><br />\nGold Sponsor\, <a href="http://www.wgfaradio.com/">WGFA</a><br />\nGold Sponsor\, <a href="https://www.staradio.com/">STARadio</a><br />\nSilver Sponsor\, <a href="https://www.homehelpershomecare.com/">Home Helpers</a><br />\nSilver Sponsor\, <a href="https://www.iroquoisfed.com/">Iroquois Federal</a></p>\n
LOCATION:https://www.iroquoisfed.com/Olivet Nazarene University Chalfant Hall Bourbonnais\, IL
UID:e.771.3041
SEQUENCE:3
DTSTAMP:20260422T205252Z
URL:https://business.kankakeecountychamber.com/events/details/leadership-and-lunch-3041
END:VEVENT

END:VCALENDAR
