BEGIN:VCALENDAR
VERSION:2.0
PRODID:-//ChamberMaster//Event Calendar 2.0//EN
METHOD:PUBLISH
X-PUBLISHED-TTL:P3D
REFRESH-INTERVAL:P3D
CALSCALE:GREGORIAN
BEGIN:VEVENT
DTSTART:20190906T123000Z
DTEND:20190906T140000Z
X-MICROSOFT-CDO-ALLDAYEVENT:FALSE
SUMMARY:Legislative Reception 2019
DESCRIPTION:Join the Kankakee County Chamber of Commerce and the Kankakee County Farm Bureau for a Legislative Breakfast. You'll have the chance to meet our state and federal legislators\, ask questions\, and hear from IL Dept of Ag Director John Sullivan.\n\n \nConfirmed Representatives Attending:\n\n\n	Keynote Speaker: IL Dept of Agriculture\, Director John Sullivan\n	Congresswoman Robin Kelly\n	State Senator Toi Hutchinson\n	State Senator Elgie Sims\n	State Representative Lindsay Parkhurst \n	State Representative Nicholas Smith \n	Bill Houlihan from US Sen Durbin's office \n	Randy Sikowski from US Sen Duckworth's office
X-ALT-DESC;FMTTYPE=text/html:<span style="font-size:14px\;"><span style="font-family:arial\;">Join the Kankakee County Chamber of Commerce and the Kankakee County Farm Bureau for a Legislative Breakfast. You&#39\;ll have the chance to meet our state and federal legislators\, ask questions\, and hear from&nbsp\;</span><span style="color: rgb(38\, 40\, 42)\; font-family: &quot\;Helvetica Neue&quot\;\, Helvetica\, Arial\, sans-serif\;"><span style="font-family:arial\;">IL Dept of Ag Director John Sullivan.</span></span></span><br />\n&nbsp\;\n<p style="text-align: center\;"><strong>Confirmed Representatives Attending:</strong></p>\n\n<ul>\n	<li>Keynote Speaker: IL Dept of Agriculture\, Director John Sullivan</li>\n	<li>Congresswoman Robin Kelly</li>\n	<li>State Senator Toi Hutchinson</li>\n	<li>State Senator Elgie Sims</li>\n	<li>State Representative Lindsay Parkhurst&nbsp\;</li>\n	<li>State Representative Nicholas Smith&nbsp\;</li>\n	<li>Bill Houlihan from US Sen Durbin&#39\;s office&nbsp\;</li>\n	<li>Randy Sikowski from US Sen Duckworth&#39\;s office&nbsp\;</li>\n</ul>\n
LOCATION:Kankakee Country Club
UID:e.771.2602
SEQUENCE:3
DTSTAMP:20260423T020413Z
URL:https://business.kankakeecountychamber.com/events/details/legislative-reception-2019-2602
END:VEVENT

END:VCALENDAR
