BEGIN:VCALENDAR
VERSION:2.0
PRODID:-//ChamberMaster//Event Calendar 2.0//EN
METHOD:PUBLISH
X-PUBLISHED-TTL:P3D
REFRESH-INTERVAL:P3D
CALSCALE:GREGORIAN
BEGIN:VEVENT
DTSTART:20210902T123000Z
DTEND:20210902T140000Z
X-MICROSOFT-CDO-ALLDAYEVENT:FALSE
SUMMARY:Legislative Reception 2021
DESCRIPTION:Join the Kankakee County Chamber of Commerce and the Kankakee County Farm Bureau for a Legislative Breakfast. You'll have the chance to meet our state and federal legislators & ask questions!
X-ALT-DESC;FMTTYPE=text/html:<span style="font-size:14px\;"><span style="font-family:arial\;">Join the Kankakee County Chamber of Commerce and the Kankakee County Farm Bureau for a Legislative Breakfast. You&#39\;ll have the chance to meet our state and federal legislators &amp\; ask questions!</span></span><br />\n&nbsp\;
LOCATION:Kankakee Country Club 2011 Cobb Blvd. Kankakee\, IL 60901
UID:e.771.3678
SEQUENCE:3
DTSTAMP:20260419T163812Z
URL:https://business.kankakeecountychamber.com/events/details/legislative-reception-2021-3678
END:VEVENT

END:VCALENDAR
