BEGIN:VCALENDAR
VERSION:2.0
PRODID:-//ChamberMaster//Event Calendar 2.0//EN
METHOD:PUBLISH
X-PUBLISHED-TTL:P3D
REFRESH-INTERVAL:P3D
CALSCALE:GREGORIAN
BEGIN:VEVENT
DTSTART:20230331T150000Z
DTEND:20230331T170000Z
X-MICROSOFT-CDO-ALLDAYEVENT:FALSE
SUMMARY:Lifelong Learning Spring Kick-off
DESCRIPTION:Ready to be inspired? Join us to learn about Bob de Oliveira's incredible spiritual pilgrimage from Portugal to Santiago de Compostela\, Spain
X-ALT-DESC;FMTTYPE=text/html:Ready to be inspired? Join us to learn about Bob de Oliveira&#39\;s incredible spiritual pilgrimage from Portugal to Santiago de Compostela\, Spain
LOCATION:KCC Riverfront Campus Iroquois Room
UID:e.771.4586
SEQUENCE:3
DTSTAMP:20260420T013539Z
URL:https://business.kankakeecountychamber.com/events/details/lifelong-learning-spring-kick-off-4586
END:VEVENT

END:VCALENDAR
