BEGIN:VCALENDAR
VERSION:2.0
PRODID:-//ChamberMaster//Event Calendar 2.0//EN
METHOD:PUBLISH
X-PUBLISHED-TTL:P3D
REFRESH-INTERVAL:P3D
CALSCALE:GREGORIAN
BEGIN:VEVENT
DTSTART:20200116T000000Z
DTEND:20200116T020000Z
X-MICROSOFT-CDO-ALLDAYEVENT:FALSE
SUMMARY:Listening Town Hall: Senator Patrick Joyce
DESCRIPTION:All are welcome to come discuss the issues that impact our community with State Senator Patrick Joyce. This event will be hosted at the Kankakee Community College Iroquois Room (Enter at welcoming center).
X-ALT-DESC;FMTTYPE=text/html:<span style="color: rgb(29\, 33\, 41)\; font-family: Helvetica\, Arial\, sans-serif\; font-size: 14px\; white-space: pre-wrap\;">All are welcome to come discuss the issues that impact our community with State Senator Patrick Joyce. This event will be hosted at the Kankakee Community College Iroquois Room (Enter at welcoming center).</span>
LOCATION:Kankakee Community College Iroquois Room 100 College Drive Kankakee\, IL 60901
UID:e.771.3082
SEQUENCE:3
DTSTAMP:20260422T220305Z
URL:https://business.kankakeecountychamber.com/events/details/listening-town-hall-senator-patrick-joyce-3082
END:VEVENT

END:VCALENDAR
