BEGIN:VCALENDAR
VERSION:2.0
PRODID:-//ChamberMaster//Event Calendar 2.0//EN
METHOD:PUBLISH
X-PUBLISHED-TTL:P3D
REFRESH-INTERVAL:P3D
CALSCALE:GREGORIAN
BEGIN:VEVENT
DTSTART:20260123T140000Z
DTEND:20260123T220000Z
X-MICROSOFT-CDO-ALLDAYEVENT:FALSE
SUMMARY:Live2Lead Leadership Conference
DESCRIPTION:Live2Lead 2025   Kankakee Community College\n\nJoin us for Live2Lead 2026\, a full day leadership experience designed to equip and inspire local leaders. This dynamic event will feature world-class thought leaders including John C. Maxwell\, the #1 leadership expert in the world\, Anthony Trucks\, former NFL athlete and identity coach\, Tiffani Bova\, bestselling author and innovation strategist\, and Jesse Cole\, founder of the Savannah Bananas and creator of Banana Ball.\n\nAttendees will walk away with fresh perspectives\, practical tools\, and actionable strategies they can implement immediately in their organizations and communities. Whether you're a business owner\, executive\, manager\, or community leader\, Live2Lead is your opportunity to connect\, grow\, and return to work with renewed passion and vision.
X-ALT-DESC;FMTTYPE=text/html:<p><strong>Live2Lead 2025 &ndash\; Kankakee Community College</strong></p>\n\n<p>Join us for <em>Live2Lead 2026</em>\, a full day leadership experience designed to equip and inspire local leaders. This dynamic event will feature world-class thought leaders including <strong>John C. Maxwell</strong>\, the #1 leadership expert in the world\, <strong>Anthony Trucks</strong>\, former NFL athlete and identity coach\, <strong>Tiffani Bova</strong>\, bestselling author and innovation strategist\, and <strong>Jesse Cole</strong>\, founder of the Savannah Bananas and creator of Banana Ball.</p>\n\n<p>Attendees will walk away with <strong>fresh perspectives\, practical tools\, and actionable strategies</strong> they can implement immediately in their organizations and communities. Whether you&rsquo\;re a business owner\, executive\, manager\, or community leader\, Live2Lead is your opportunity to connect\, grow\, and return to work with renewed passion and vision.</p>\n
LOCATION:Riverfront Campus 100 College Drive Kankakee\, IL 60901
UID:e.771.5366
SEQUENCE:3
DTSTAMP:20260423T094055Z
URL:https://business.kankakeecountychamber.com/events/details/live2lead-leadership-conferece-5366
END:VEVENT

END:VCALENDAR
