BEGIN:VCALENDAR
VERSION:2.0
PRODID:-//ChamberMaster//Event Calendar 2.0//EN
METHOD:PUBLISH
X-PUBLISHED-TTL:P3D
REFRESH-INTERVAL:P3D
CALSCALE:GREGORIAN
BEGIN:VEVENT
DTSTART;VALUE=DATE:20260501
DTEND;VALUE=DATE:20260601
TRANSP:TRANSPARENT
X-MICROSOFT-CDO-ALLDAYEVENT:TRUE
SUMMARY:Love Your Library Community Scavenger Hunt
DESCRIPTION:Dear Bourbonnais\,\n\nThis spring\, we wanted to celebrate community connection and some of the places that make Bourbonnais so great. And we have a secret message just for you! We've hidden words at a selection of community spots. Visit them all to find each word\, unscramble the message\, and earn a chance to win a sweet prize basket. \n\nHow it Works:\n\n\n	Sign up: Visit the library to pick up your scavenger hunt card. You'll get a small prize just for signing up!\n	Hunt: Go to each business and organization listed on your card. There\, you'll find a QR code to scan. You'll be directed to a web page where you'll learn more about the library and the location you're visiting! You'll also find a clue word that you'll want to remember!\n	Decode: After you visit each scavenger hunt location\, you'll have 8 clue words to unscramble. Once you've decoded the sentence\, write it on the back of your card and return it to the library for a raffle ticket!\n	Rewards: Everyone who finishes the scavenger hunt will receive a raffle ticket for our grand prize baskets! Want an extra entry? Post a photo of you or your family participating in the scavenger hunt and tag us on social media!\n\n\nSo grab a friend\, set out solo\, or make it a family outing! We're excited to celebrate our community and all the incredible resources available in Bourbonnais. And\, of course\, don't forget to have fun!\n\nPlease email abelcher@bourbonnaislibrary.org with any questions.
X-ALT-DESC;FMTTYPE=text/html:<p>Dear Bourbonnais\,</p>\n\n<p>This spring\, we wanted to celebrate community connection and some of the places that make Bourbonnais so great. And we have a secret message just for you! We&rsquo\;ve hidden words at a selection of community spots. Visit them all to find each word\, unscramble the message\, and earn a chance to win a sweet prize basket.&nbsp\;</p>\n\n<h3>How it Works:</h3>\n\n<ul>\n	<li><strong>Sign up:&nbsp\;</strong>Visit the library to pick up your scavenger hunt card. You&#39\;ll get a small prize just for signing up!</li>\n	<li><strong>Hunt:&nbsp\;</strong>Go to each business and organization listed on your card. There\, you&#39\;ll find a QR code to scan. You&#39\;ll be directed to a web page where you&#39\;ll learn more about the library and the location you&#39\;re visiting! You&#39\;ll also find a clue word that you&#39\;ll want to remember!</li>\n	<li><strong>Decode:&nbsp\;</strong>After you visit each scavenger hunt location\, you&#39\;ll have 8 clue words to unscramble. Once you&#39\;ve decoded the sentence\, write it on the back of your card and return it to the library for a raffle ticket!</li>\n	<li><strong>Rewards</strong>: Everyone who finishes the scavenger hunt will receive a raffle ticket for our grand prize baskets! Want an extra entry? Post a photo of you or your family participating in the scavenger hunt and tag us on social media!</li>\n</ul>\n\n<p>So grab a friend\, set out solo\, or make it a family outing! We&#39\;re excited to celebrate our community and all the incredible resources available in Bourbonnais. And\, of course\, don&rsquo\;t forget to have fun!</p>\n\n<p>Please email&nbsp\;<a href="mailto:abelcher@bourbonnaislibrary.org" style="box-sizing: border-box\; color: rgb(32\, 83\, 128)\;">abelcher@bourbonnaislibrary.org</a>&nbsp\;with any questions.</p>\n
LOCATION:Bourbonnais Public Library
UID:e.771.5846
SEQUENCE:3
DTSTAMP:20260421T181622Z
URL:https://business.kankakeecountychamber.com/events/details/love-your-library-community-scavenger-hunt-5846
END:VEVENT

END:VCALENDAR
