BEGIN:VCALENDAR
VERSION:2.0
PRODID:-//ChamberMaster//Event Calendar 2.0//EN
METHOD:PUBLISH
X-PUBLISHED-TTL:P3D
REFRESH-INTERVAL:P3D
CALSCALE:GREGORIAN
BEGIN:VEVENT
DTSTART;VALUE=DATE:20260207
DTEND;VALUE=DATE:20260208
TRANSP:TRANSPARENT
X-MICROSOFT-CDO-ALLDAYEVENT:TRUE
SUMMARY:Love Your Library Tattoo Flash Day
DESCRIPTION:Calling all library lovers\, this event is for you! The Bourbonnais Public Library is teaming up with Electric Lady Lounge for a flash event on Saturday\, February 7\, at 11 am. Celebrate your library love\, and all things bookish\, with some fab new ink! We'll also be there with library information and a super sweet raffle ?????\n\n?\n\n? Designs starting at $100\, palm sized.?\n\n? Keep an eye out for designs to be posted on social media soon! Available with or without color.?\n\n? Arms + legs only. Made to be duplicated.?\n\n? Please limit yourself to one guest.?\n\n?\n\nDoors open and sign-up sheets begin at 11 am. First come\, first served! Cash only. ?\n\n?\n\nPlease direct any tattoo-related questions to Electric Lady Lounge. We can't wait to see you there!?
X-ALT-DESC;FMTTYPE=text/html:<span style="color:rgb(12\, 16\, 20)\; font-family:-apple-system\,blinkmacsystemfont\,segoe ui\,roboto\,helvetica\,arial\,sans-serif\; font-size:14px">Calling all library lovers\, this event is for you! The Bourbonnais Public Library is teaming up with Electric Lady Lounge for a flash event on Saturday\, February 7\, at 11 am. Celebrate your library love\, and all things bookish\, with some fab new ink! We&#39\;ll also be there with library information and a super sweet raffle ?????</span><br />\n<span style="color:rgb(12\, 16\, 20)\; font-family:-apple-system\,blinkmacsystemfont\,segoe ui\,roboto\,helvetica\,arial\,sans-serif\; font-size:14px">?</span><br />\n<span style="color:rgb(12\, 16\, 20)\; font-family:-apple-system\,blinkmacsystemfont\,segoe ui\,roboto\,helvetica\,arial\,sans-serif\; font-size:14px">? Designs starting at $100\, palm sized.?</span><br />\n<span style="color:rgb(12\, 16\, 20)\; font-family:-apple-system\,blinkmacsystemfont\,segoe ui\,roboto\,helvetica\,arial\,sans-serif\; font-size:14px">? Keep an eye out for designs to be posted on social media soon! Available with or without color.?</span><br />\n<span style="color:rgb(12\, 16\, 20)\; font-family:-apple-system\,blinkmacsystemfont\,segoe ui\,roboto\,helvetica\,arial\,sans-serif\; font-size:14px">? Arms + legs only. Made to be duplicated.?</span><br />\n<span style="color:rgb(12\, 16\, 20)\; font-family:-apple-system\,blinkmacsystemfont\,segoe ui\,roboto\,helvetica\,arial\,sans-serif\; font-size:14px">? Please limit yourself to one guest.?</span><br />\n<span style="color:rgb(12\, 16\, 20)\; font-family:-apple-system\,blinkmacsystemfont\,segoe ui\,roboto\,helvetica\,arial\,sans-serif\; font-size:14px">?</span><br />\n<span style="color:rgb(12\, 16\, 20)\; font-family:-apple-system\,blinkmacsystemfont\,segoe ui\,roboto\,helvetica\,arial\,sans-serif\; font-size:14px">Doors open and sign-up sheets begin at 11 am. First come\, first served! Cash only. ?</span><br />\n<span style="color:rgb(12\, 16\, 20)\; font-family:-apple-system\,blinkmacsystemfont\,segoe ui\,roboto\,helvetica\,arial\,sans-serif\; font-size:14px">?</span><br />\n<span style="color:rgb(12\, 16\, 20)\; font-family:-apple-system\,blinkmacsystemfont\,segoe ui\,roboto\,helvetica\,arial\,sans-serif\; font-size:14px">Please direct any tattoo-related questions to Electric Lady Lounge.&nbsp\;</span><span style="color:rgb(12\, 16\, 20)\; font-family:-apple-system\,blinkmacsystemfont\,segoe ui\,roboto\,helvetica\,arial\,sans-serif\; font-size:14px">We can&#39\;t wait to see you there!?</span>
LOCATION:Electric Lady Lounge
UID:e.771.5504
SEQUENCE:3
DTSTAMP:20260423T094033Z
URL:https://business.kankakeecountychamber.com/events/details/love-your-library-tattoo-flash-day-5504
END:VEVENT

END:VCALENDAR
