BEGIN:VCALENDAR
VERSION:2.0
PRODID:-//ChamberMaster//Event Calendar 2.0//EN
METHOD:PUBLISH
X-PUBLISHED-TTL:P3D
REFRESH-INTERVAL:P3D
CALSCALE:GREGORIAN
BEGIN:VEVENT
DTSTART:20220713T163000Z
DTEND:20220713T180000Z
X-MICROSOFT-CDO-ALLDAYEVENT:FALSE
SUMMARY:Lunch & Learn: Strategic Planning feat. speakers Jeff Williamson and Sarah Marion
DESCRIPTION:registration: https://cfkankakee.fcsuite.com/erp/donate/list/event?event_date_id=1201
X-ALT-DESC;FMTTYPE=text/html:registration:&nbsp\;<a href="https://cfkankakee.fcsuite.com/erp/donate/list/event?event_date_id=1201">https://cfkankakee.fcsuite.com/erp/donate/list/event?event_date_id=1201</a>
LOCATION:701 S. Harrison Ave.\, Kankakee\, IL
UID:e.771.4218
SEQUENCE:3
DTSTAMP:20260422T084837Z
URL:https://business.kankakeecountychamber.com/events/details/lunch-learn-strategic-planning-feat-speakers-jeff-williamson-and-sarah-marion-4218
END:VEVENT

END:VCALENDAR
