BEGIN:VCALENDAR
VERSION:2.0
PRODID:-//ChamberMaster//Event Calendar 2.0//EN
METHOD:PUBLISH
X-PUBLISHED-TTL:P3D
REFRESH-INTERVAL:P3D
CALSCALE:GREGORIAN
BEGIN:VEVENT
DTSTART:20230219T190000Z
DTEND:20230219T220000Z
X-MICROSOFT-CDO-ALLDAYEVENT:FALSE
SUMMARY:Majestically Yours Bridal Expo
DESCRIPTION:The same great Majestically Yours Bridal Expo you have experienced in the past but under new Management with a refreshed bridal experience! F?eaturing local vendors for all of your bridal needs for one-stop shopping. Experts\, owners and managers from all of your Kankakee Country top vendors and beyond. Majestically Yours Bridal Expo is also the place to find one-of-a-kind show specials. Many of our exhibitors offer booking incentives and special discounts not found anywhere else. Whether your wedding is large or small\, you'll find a wide range of wedding merchants eager to please a variety of tastes and budgets. There is so much to discover\, you could literally plan your entire wedding in one day! Make sure to invite all the members of your bridal party including the groom\; you'll appreciate their help in making your important bridal buying decisions. P?lus a Free Wedding Venue Give-Away from the Majestic!!
X-ALT-DESC;FMTTYPE=text/html:The same great Majestically Yours Bridal Expo you have experienced in the past but under new Management with a refreshed bridal experience! F?eaturing local vendors for all of your bridal needs for one-stop shopping. Experts\, owners and managers from all of your Kankakee Country top vendors and beyond. Majestically Yours Bridal Expo is also the place to find one-of-a-kind show specials. Many of our exhibitors offer booking incentives and special discounts not found anywhere else. Whether your wedding is large or small\, you&#39\;ll find a wide range of wedding merchants eager to please a variety of tastes and budgets. There is so much to discover\, you could literally plan your entire wedding in one day! Make sure to invite all the members of your bridal party including the groom\; you&#39\;ll appreciate their help in making your important bridal buying decisions. P?lus a Free Wedding Venue Give-Away from the Majestic!!
LOCATION:The Majestic Wedding & Event Space 150 N. Schuyler Ave Kankakee\, IL 60901
UID:e.771.4282
SEQUENCE:3
DTSTAMP:20260420T042819Z
URL:https://business.kankakeecountychamber.com/events/details/majestically-yours-bridal-expo-4282
END:VEVENT

END:VCALENDAR
